Workbook

Sheet May Update
A1: May Update
B2: Team | C2: Record | D2: Win % | E2: GB | F2: Home | G2: Away | H2: RF | I2: RA | J2: Diff. | K2: Last 10 | L2: Streak
A3: Ken Johnson Division | B3: Waterloo Tigers | C3: 6-2-1 | D3: 0.722 | E3: - | F3: 4-1-1 | G3: 2-1 | H3: 68 | I3: 55 | J3: =H3-I3 -> 13 | K3: 6-2-1 | L3: Lost 1
B4: Burlington Brants | C4: 5-2 | D4: =5/7 -> 0.71428571 | E4: .5 | F4: 1-1 | G4: 4-1 | H4: 71 | I4: 37 | J4: =H4-I4 -> 34 | K4: 5-2 | L4: Lost 1
B5: Milton Red Sox | C5: 3-4 | D5: =3/7 -> 0.42857143 | E5: 2 | F5: 2-2 | G5: 1-2 | H5: 49 | I5: 56 | J5: =H5-I5 -> -7 | K5: 3-3 | L5: Lost 1
B6: Oakville A's | C6: 0-6 | D6: 0 | E6: 3.5 | F6: 0-4 | G6: 0-2 | H6: 46 | I6: 90 | J6: =H6-I6 -> -44 | K6: 2-5 | L6: Lost 6
A8: Len Andrews Division | B8: Etobicoke Rangers | C8: 5-1 | D8: 0.83333333 | E8: - | F8: 3-1 | G8: 2-0 | H8: 55 | I8: 41 | J8: =H8-I8 -> 14 | K8: 5-1 | L8: Won 2
B9: Brampton Royals | C9: 3-4-1 | D9: =3/8 -> 0.375 | E9: 2.5 | F9: 2-1 | G9: 1-3-1 | H9: 73 | I9: 53 | J9: =H9-I9 -> 20 | K9: 3-4-1 | L9: Won 1
B10: Erindale Cardinals | C10: 2-6 | D10: =2/6 -> 0.33333333 | E10: 3.5 | F10: 0-3 | G10: 3-3 | H10: 72 | I10: 100 | J10: =H10-I10 -> -28 | K10: 2-6 | L10: Won 1
A13: Team Best -Min 15 AB | B13: Batting | C13: GP | D13: PA | E13: AB | F13: R | G13: H | H13: 1B | I13: 2B | J13: 3B | K13: HR | L13: RBI | M13: BB | N13: Sac | O13: K | P13: HBP | Q13: RE | R13: FC | S13: SB | T13: CS | U13: OBP | V13: SLG | W13: OPS | X13: AVG
B14: Caleb Chramow | C14: 7 | D14: 25 | E14: 20 | F14: 6 | G14: 9 | H14: 7 | I14: 2 | J14: 0 | K14: 0 | L14: 4 | M14: 4 | N14: 0 | O14: 5 | P14: 1 | Q14: 0 | R14: 1 | S14: 1 | T14: 0 | U14: 0.56 | V14: 0.55 | W14: 1.11 | X14: 0.45
B15: Patrick Pinlac | C15: 7 | D15: 29 | E15: 23 | F15: 12 | G15: 11 | H15: 8 | I15: 3 | J15: 0 | K15: 0 | L15: 6 | M15: 2 | N15: 0 | O15: 4 | P15: 2 | Q15: 1 | R15: 2 | S15: 4 | T15: 0 | U15: 0.55555556 | V15: 0.60869565 | W15: 1.1642512 | X15: 0.47826087
B16: Dawson Fascia | C16: 6 | D16: 19 | E16: 16 | F16: 1 | G16: 5 | H16: 4 | I16: 1 | J16: 0 | K16: 0 | L16: 2 | M16: 2 | N16: 0 | O16: 1 | P16: 0 | Q16: 0 | R16: 2 | S16: 1 | T16: 1 | U16: 0.38888889 | V16: 0.375 | W16: 0.76388889 | X16: 0.3125
B17: Joe Ferreira | C17: 8 | D17: 30 | E17: 24 | F17: 4 | G17: 7 | H17: 5 | I17: 1 | J17: 0 | K17: 1 | L17: 7 | M17: 3 | N17: 0 | O17: 1 | P17: 1 | Q17: 3 | R17: 2 | S17: 1 | T17: 0 | U17: 0.39285714 | V17: 0.45833333 | W17: 0.85119048 | X17: 0.29166667
B18: Tyler Barbier | C18: 2 | D18: 1 | E18: 1 | F18: 0 | G18: 0 | H18: 0 | I18: 0 | J18: 0 | K18: 0 | L18: 1 | M18: 0 | N18: 0 | O18: 0 | P18: 0 | Q18: 0 | R18: 1 | S18: 0 | T18: 0 | U18: 0 | V18: 0 | W18: 0 | X18: 0
B19: Eric Ferreira | C19: 3 | D19: 9 | E19: 7 | F19: 3 | G19: 5 | H19: 5 | I19: 0 | J19: 0 | K19: 0 | L19: 6 | M19: 0 | N19: 0 | O19: 1 | P19: 2 | Q19: 0 | R19: 0 | S19: 0 | T19: 0 | U19: 0.77777778 | V19: 0.71428571 | W19: 1.4920635 | X19: 0.71428571
B20: Sam Lebel | C20: 5 | D20: 23 | E20: 20 | F20: 3 | G20: 6 | H20: 6 | I20: 0 | J20: 0 | K20: 0 | L20: 4 | M20: 3 | N20: 0 | O20: 3 | P20: 0 | Q20: 0 | R20: 3 | S20: 0 | T20: 0 | U20: 0.39130435 | V20: 0.3 | W20: 0.69130435 | X20: 0.3
B21: Keegan Murphy | C21: 6 | D21: 25 | E21: 16 | F21: 5 | G21: 5 | H21: 2 | I21: 2 | J21: 0 | K21: 1 | L21: 6 | M21: 7 | N21: 0 | O21: 5 | P21: 2 | Q21: 0 | R21: 1 | S21: 0 | T21: 0 | U21: 0.56 | V21: 0.625 | W21: 1.185 | X21: 0.3125
B22: Aidan Murphy | C22: 2 | D22: 22 | E22: 22 | F22: 4 | G22: 6 | H22: 4 | I22: 2 | J22: 0 | K22: 0 | L22: 0 | M22: 0 | N22: 0 | O22: 7 | P22: 0 | Q22: 2 | R22: 0 | S22: 1 | T22: 0 | U22: 0.27272727 | V22: 0.36363636 | W22: 0.63636364 | X22: 0.27272727
B23: Jayden Jeminson | C23: 8 | D23: 27 | E23: 23 | F23: 5 | G23: 7 | H23: 6 | I23: 1 | J23: 0 | K23: 0 | L23: 5 | M23: 3 | N23: 0 | O23: 7 | P23: 1 | Q23: 2 | R23: 2 | S23: 0 | T23: 0 | U23: 0.40740741 | V23: 0.34782609 | W23: 0.75523349 | X23: 0.30434783
B24: Brendan Nolet | C24: 5 | D24: 23 | E24: 9 | F24: 7 | G24: 1 | H24: 1 | I24: 0 | J24: 0 | K24: 0 | L24: 1 | M24: 10 | N24: 0 | O24: 3 | P24: 4 | Q24: 1 | R24: 1 | S24: 5 | T24: 0 | U24: 0.65217391 | V24: 0.11111111 | W24: 0.76328502 | X24: 0.11111111
B25: Aiden Cowper | C25: 8 | D25: 24 | E25: 17 | F25: 6 | G25: 7 | H25: 4 | I25: 2 | J25: 0 | K25: 1 | L25: 6 | M25: 7 | N25: 0 | O25: 3 | P25: 0 | Q25: 0 | R25: 0 | S25: 1 | T25: 0 | U25: 0.58333333 | V25: 0.70588235 | W25: 1.2892157 | X25: 0.41176471
... B31: Team Totals | C31: 92 | D31: 330 | E31: 255 | F31: 73 | G31: 84 | H31: 65 | I31: 15 | J31: 0 | K31: 4 | L31: 60 | M31: 53 | N31: 1 | O31: 53 | P31: 16 | Q31: 10 | R31: 16 | S31: 17 | T31: 1 | U31: 0.47076923 | V31: 0.43529412 | W31: 0.90606335 | X31: 0.32941176
A34: Team Best - Min 5 IP | B34: Pitching | C34: G | D34: GS | E34: CG | F34: IP | G34: ER | H34: Hits | I34: HR | J34: K | K34: BB | L34: HBP | M34: WP | N34: Won | O34: Lost | P34: Sv | Q34: ERA | R34: WHIP
B35: Joe Ferreira | C35: 3 | D35: 1 | E35: 0 | F35: 5 | G35: 3 | H35: 4 | I35: 0 | J35: 7 | K35: 3 | L35: 1 | M35: 0 | N35: 0 | O35: 0 | P35: 0 | Q35: 5.4 | R35: 1.4
B36: Tyler Barbier | C36: 1 | D36: 1 | E36: 0 | F36: 3 | G36: 0 | H36: 1 | I36: 0 | J36: 7 | K36: 4 | L36: 0 | M36: 0 | N36: 0 | O36: 0 | P36: 0 | Q36: 0 | R36: 1.6666667
B37: Ivan Jakovljevic | C37: 4 | D37: 0 | E37: 0 | F37: 4 | G37: 7 | H37: 5 | I37: 0 | J37: 5 | K37: 10 | L37: 1 | M37: 4 | N37: 0 | O37: 1 | P37: 0 | Q37: 15.75 | R37: 3.75
B38: Eric Ferreira | C38: 2 | D38: 0 | E38: 0 | F38: 2 | G38: 1 | H38: 2 | I38: 0 | J38: 2 | K38: 4 | L38: 0 | M38: 0 | N38: 0 | O38: 0 | P38: 0 | Q38: 4.5 | R38: 3
B39: Myles Swartz | C39: 2 | D39: 2 | E39: 0 | F39: 7 | G39: 5 | H39: 8 | I39: 1 | J39: 2 | K39: 7 | L39: 0 | M39: 1 | N39: 0 | O39: 0 | P39: 0 | Q39: 6.4285714 | R39: 2.1428571
B40: Sam Lebel | C40: 2 | D40: 0 | E40: 0 | F40: 1 | G40: 0 | H40: 2 | I40: 0 | J40: 3 | K40: 0 | L40: 0 | M40: 0 | N40: 0 | O40: 0 | P40: 0 | Q40: 0 | R40: 2
B41: Aidan Murphy | C41: 4 | D41: 3 | E41: 0 | F41: 15.2 | G41: 7 | H41: 13 | I41: 0 | J41: 34 | K41: 9 | L41: 0 | M41: 11 | N41: 2 | O41: 0 | P41: 0 | Q41: 4.0229885 | R41: 1.4048531
B42: Brendan Nolet | C42: 4 | D42: 1 | E42: 0 | F42: 8 | G42: 8 | H42: 10 | I42: 0 | J42: 10 | K42: 9 | L42: 1 | M42: 6 | N42: 1 | O42: 1 | P42: 0 | Q42: 9 | R42: 2.375
B43: Patreek Shrestha | C43: 1 | D43: 0 | E43: 0 | F43: 1 | G43: 0 | H43: 0 | I43: 0 | J43: 0 | K43: 0 | L43: 0 | M43: 0 | N43: 0 | O43: 0 | P43: 0 | Q43: 0 | R43: 0
B44: Alex Emmerson | C44: 1 | D44: 0 | E44: 0 | F44: 1.1 | G44: 5 | H44: 4 | I44: 0 | J44: 1 | K44: 6 | L44: 0 | M44: 1 | N44: 0 | O44: 0 | P44: 0 | Q44: 33.834586 | R44: 7.518797
B45: Kyle Mucin | C45: 4 | D45: 0 | E45: 0 | F45: 8.2 | G45: 7 | H45: 9 | I45: 0 | J45: 8 | K45: 10 | L45: 1 | M45: 2 | N45: 0 | O45: 2 | P45: 0 | Q45: 7.2748268 | R45: 2.1939954
B46: Logan Janes | C46: 1 | D46: 0 | E46: 0 | F46: 2 | G46: 2 | H46: 1 | I46: 0 | J46: 1 | K46: 4 | L46: 0 | M46: 0 | N46: 0 | O46: 0 | P46: 0 | Q46: 9 | R46: 2.5
B47: Team Totals | C47: 29 | D47: 8 | E47: 0 | F47: 58.1 | G47: 45 | H47: 59 | I47: 1 | J47: 80 | K47: 66 | L47: 4 | M47: 25 | N47: 3 | O47: 4 | P47: 0 | Q47: 6.9707401 | R47: 2.151463

Sheet June Update
A1: June Update
B2: Team | C2: Record | D2: Win % | E2: GB | F2: Home | G2: Away | H2: RF | I2: RA | J2: Diff. | K2: Last 10 | L2: Streak
A3: Ken Johnson Division | B3: Waterloo Tigers | C3: 9-6-1 | D3: 0.594 | E3: - | F3: 5-2-1 | G3: 4-4 | H3: 109 | I3: 81 | J3: =H3-I3 -> 28 | K3: 5-5 | L3: Lost 4
B4: Burlington Brants | C4: 7-5 | D4: =7/12 -> 0.58333333 | E4: 1.5 | F4: 2-3 | G4: 5-2 | H4: 112 | I4: 72 | J4: =H4-I4 -> 40 | K4: 5-5 | L4: Won 1
B5: Milton Red Sox | C5: 8-8 | D5: =8/16 -> 0.5 | E5: 1.5 | F5: 5-4 | G5: 3-4 | H5: 142 | I5: 130 | J5: =H5-I5 -> 12 | K5: 6-4 | L5: Won 2
B6: Oakville A's | C6: 2-12 | D6: =2/14 -> 0.14285714 | E6: 6.5 | F6: 0-6 | G6: 2-6 | H6: 98 | I6: 192 | J6: =H6-I6 -> -94 | K6: 2-8 | L6: Won 1
A8: Len Andrews Division | B8: Etobicoke Rangers | C8: 12-2 | D8: =12/14 -> 0.85714286 | E8: - | F8: 7-1 | G8: 5-1 | H8: 129 | I8: 66 | J8: =H8-I8 -> 63 | K8: 9-1 | L8: Won 7
B9: Brampton Royals | C9: 6-8-1 | D9: 0.433 | E9: 6 | F9: 5-3 | G9: 1-5-1 | H9: 119 | I9: 124 | J9: =H9-I9 -> -5 | K9: 5-5 | L9: Lost 1
B10: Erindale Cardinals | C10: 7-10 | D10: =7/17 -> 0.41176471 | E10: 6.5 | F10: 2-6 | G10: 5-4 | H10: 119 | I10: 163 | J10: =H10-I10 -> -44 | K10: 5-5 | L10: Won 4
A13: Team Best -Min 5 AB | B13: Batting | C13: GP | D13: PA | E13: AB | F13: R | G13: H | H13: 1B | I13: 2B | J13: 3B | K13: HR | L13: RBI | M13: BB | N13: Sac | O13: K | P13: HBP | Q13: RE | R13: FC | S13: SB | T13: CS | U13: OBP | V13: SLG | W13: OPS | X13: AVG
B14: Caleb Chramow | C14: 5 | D14: 16 | E14: 15 | F14: 4 | G14: 6 | H14: 5 | I14: 1 | J14: 0 | K14: 0 | L14: 2 | M14: 1 | N14: 0 | O14: 3 | P14: 0 | Q14: 1 | R14: 1 | S14: 2 | T14: 0 | U14: 0.4375 | V14: 0.46666667 | W14: 0.90416667 | X14: 0.4
B15: Patrick Pinlac | C15: 7 | D15: 30 | E15: 26 | F15: 4 | G15: 7 | H15: 5 | I15: 1 | J15: 1 | K15: 0 | L15: 7 | M15: 2 | N15: 0 | O15: 9 | P15: 2 | Q15: 1 | R15: 0 | S15: 2 | T15: 0 | U15: 0.36666667 | V15: 0.38461538 | W15: 0.75128205 | X15: 0.26923077
B16: Dawson Fascia | C16: 6 | D16: 21 | E16: 16 | F16: 2 | G16: 1 | H16: 1 | I16: 0 | J16: 0 | K16: 0 | L16: 2 | M16: 2 | N16: 1 | O16: 3 | P16: 2 | Q16: 2 | R16: 1 | S16: 3 | T16: 0 | U16: 0.23809524 | V16: 0.0625 | W16: 0.30059524 | X16: 0.0625
B17: Joe Ferreira | C17: 4 | D17: 10 | E17: 8 | F17: 3 | G17: 5 | H17: 5 | I17: 0 | J17: 0 | K17: 0 | L17: 5 | M17: 2 | N17: 0 | O17: 1 | P17: 0 | Q17: 0 | R17: 0 | S17: 0 | T17: 0 | U17: 0.7 | V17: 0.625 | W17: 1.325 | X17: 0.625
B18: O Toon | C18: 1 | D18: 5 | E18: 4 | F18: 1 | G18: 0 | H18: 0 | I18: 0 | J18: 0 | K18: 0 | L18: 0 | M18: 1 | N18: 0 | O18: 1 | P18: 0 | Q18: 0 | R18: 0 | S18: 0 | T18: 0 | U18: 0.2 | V18: 0 | W18: 0.2 | X18: 0
B19: Tyler Barbier | C19: 5 | D19: 12 | E19: 12 | F19: 1 | G19: 2 | H19: 1 | I19: 1 | J19: 0 | K19: 0 | L19: 1 | M19: 0 | N19: 0 | O19: 6 | P19: 0 | Q19: 0 | R19: 0 | S19: 0 | T19: 0 | U19: 0.16666667 | V19: 0.25 | W19: 0.41666667 | X19: 0.16666667
B20: Ivan Jakovljevic | C20: 1 | D20: 1 | E20: 1 | F20: 0 | G20: 0 | H20: 0 | I20: 0 | J20: 0 | K20: 0 | L20: 0 | M20: 0 | N20: 0 | O20: 1 | P20: 0 | Q20: 0 | R20: 0 | S20: 0 | T20: 0 | U20: 0 | V20: 0 | W20: 0 | X20: 0
B21: Eric Ferreira | C21: 2 | D21: 6 | E21: 5 | F21: 1 | G21: 2 | H21: 2 | I21: 0 | J21: 0 | K21: 0 | L21: 3 | M21: 1 | N21: 0 | O21: 2 | P21: 0 | Q21: 0 | R21: 0 | S21: 1 | T21: 0 | U21: 0.5 | V21: 0.4 | W21: 0.9 | X21: 0.4
B22: Jaden Gadishaw | C22: 1 | D22: 3 | E22: 2 | F22: 3 | G22: 2 | H22: 1 | I22: 1 | J22: 0 | K22: 0 | L22: 1 | M22: 0 | N22: 0 | O22: 0 | P22: 1 | Q22: 0 | R22: 0 | S22: 0 | T22: 0 | U22: 1 | V22: 1.5 | W22: 2.5 | X22: 1
B23: Sam Lebel | C23: 4 | D23: 19 | E23: 17 | F23: 3 | G23: 7 | H23: 5 | I23: 2 | J23: 0 | K23: 0 | L23: 4 | M23: 1 | N23: 0 | O23: 1 | P23: 1 | Q23: 2 | R23: 0 | S23: 0 | T23: 0 | U23: 0.47368421 | V23: 0.52941176 | W23: 1.003096 | X23: 0.41176471
B24: Kevin Linfield | C24: 1 | D24: 4 | E24: 3 | F24: 0 | G24: 0 | H24: 0 | I24: 0 | J24: 0 | K24: 0 | L24: 0 | M24: 1 | N24: 0 | O24: 0 | P24: 0 | Q24: 0 | R24: 0 | S24: 0 | T24: 0 | U24: 0.25 | V24: 0 | W24: 0.25 | X24: 0
B25: Keegan Murphy | C25: 4 | D25: 11 | E25: 9 | F25: 2 | G25: 2 | H25: 1 | I25: 0 | J25: 0 | K25: 1 | L25: 4 | M25: 1 | N25: 0 | O25: 4 | P25: 0 | Q25: 0 | R25: 0 | S25: 0 | T25: 0 | U25: 0.3 | V25: 0.55555556 | W25: 0.85555556 | X25: 0.22222222
... B37: Team Totals | C37: 82 | D37: 269 | E37: 216 | F37: 46 | G37: 59 | H37: 47 | I37: 9 | J37: 1 | K37: 2 | L37: 41 | M37: 38 | N37: 2 | O37: 69 | P37: 11 | Q37: 9 | R37: 5 | S37: 13 | T37: 0 | U37: 0.40754717 | V37: 0.35185185 | W37: 0.75939902 | X37: 0.27314815
A40: Team Best - Min 5 IP | B40: Pitching | C40: G | D40: GS | E40: CG | F40: IP | G40: ER | H40: Hits | I40: HR | J40: K | K40: BB | L40: HBP | M40: WP | N40: Won | O40: Lost | P40: Sv | Q40: ERA | R40: WHIP
B41: Tyler Barbier | C41: 1 | D41: 1 | E41: 0 | F41: 3 | G41: 1 | H41: 1 | I41: 0 | J41: 3 | K41: 4 | L41: 0 | M41: 3 | N41: 0 | O41: 0 | P41: 0 | Q41: 3 | R41: 1.6666667
B42: Ivan Jakovljevic | C42: 4 | D42: 0 | E42: 0 | F42: 9.1 | G42: 9 | H42: 11 | I42: 1 | J42: 7 | K42: 10 | L42: 0 | M42: 1 | N42: 0 | O42: 1 | P42: 0 | Q42: 8.681672 | R42: 2.2508039
B43: Myles Swartz | C43: 2 | D43: 1 | E43: 0 | F43: 6.2 | G43: 10 | H43: 17 | I43: 0 | J43: 5 | K43: 4 | L43: 1 | M43: 0 | N43: 0 | O43: 1 | P43: 0 | Q43: 14.516129 | R43: 3.1531532
B44: Aidan Murphy | C44: 3 | D44: 2 | E44: 0 | F44: 10 | G44: 9 | H44: 14 | I44: 1 | J44: 9 | K44: 4 | L44: 1 | M44: 3 | N44: 0 | O44: 1 | P44: 0 | Q44: 8.1 | R44: 1.8
B45: Brendan Nolet | C45: 2 | D45: 1 | E45: 0 | F45: 4.2 | G45: 8 | H45: 7 | I45: 0 | J45: 5 | K45: 9 | L45: 0 | M45: 4 | N45: 1 | O45: 0 | P45: 0 | Q45: 17.142857 | R45: 3.4334764
B46: Patreek Shrestha | C46: 3 | D46: 2 | E46: 0 | F46: 7.1 | G46: 10 | H46: 14 | I46: 2 | J46: 4 | K46: 6 | L46: 1 | M46: 1 | N46: 1 | O46: 1 | P46: 0 | Q46: 12.676056 | R46: 2.728513
B47: Aiden Cowper | C47: 1 | D47: 0 | E47: 0 | F47: 1.1 | G47: 9 | H47: 9 | I47: 0 | J47: 0 | K47: 2 | L47: 0 | M47: 0 | N47: 0 | O47: 0 | P47: 0 | Q47: 73.636364 | R47: 8.2706767
B48: Alex Emmerson | C48: 1 | D48: 0 | E48: 0 | F48: 3 | G48: 2 | H48: 3 | I48: 0 | J48: 3 | K48: 3 | L48: 0 | M48: 0 | N48: 0 | O48: 0 | P48: 0 | Q48: 6 | R48: 2
B49: Kyle Mucin | C49: 2 | D49: 0 | E49: 0 | G49: 2 | H49: 2 | I49: 0 | J49: 4 | K49: 6 | L49: 1 | M49: 1 | N49: 1 | O49: 0 | P49: 0 | Q49: 3.5294118 | R49: 1.5009381
B50: Logan Janes | C50: 1 | D50: 0 | E50: 0 | F50: 0.1 | G50: 1 | H50: 1 | I50: 0 | J50: 0 | K50: 0 | L50: 0 | M50: 1 | N50: 0 | O50: 0 | P50: 0 | Q50: 90 | R50: 3.030303
B51: Team Totals | C51: 0 | D51: =SUM(D41:D50) -> 7 | E51: =SUM(E41:E50) -> 0 | F51: 51 | G51: =SUM(G41:G50) -> 61 | H51: =SUM(H41:H50) -> 79 | I51: =SUM(I41:I50) -> 4 | J51: =SUM(J41:J50) -> 40 | K51: =SUM(K41:K50) -> 48 | L51: =SUM(L41:L50) -> 4 | M51: =SUM(M41:M50) -> 14 | N51: =SUM(N41:N50) -> 3 | ... P51: =SUM(P41:P50) -> 0 | Q51: 10.764706 | R51: 2.4901961

Sheet July Update
A1: July Update
B2: Team | C2: Record | D2: Win % | E2: GB | F2: Home | G2: Away | H2: RF | I2: RA | J2: Diff. | K2: Last 10 | L2: Streak
A3: Ken Johnson Division | B3: Waterloo Tigers | C3: 15-7-1 | D3: =15/23 -> 0.65217391 | E3: - | F3: 8-2 | G3: 7-5 | H3: 188 | I3: 117 | J3: =H3-I3 -> 71 | K3: 6-4 | L3: Won 5
B4: Burlington Brants | C4: 11-8 | D4: =11/19 -> 0.57894737 | E4: 2.5 | F4: 5-4 | G4: 6-4 | H4: 175 | I4: 110 | J4: =H4-I4 -> 65 | K4: 5-5 | L4: Won 2
B5: Milton Red Sox | C5: 11-10 | D5: =11/21 -> 0.52380952 | E5: 3.5 | F5: 7-5 | G5: 4-5 | H5: 192 | I5: 170 | J5: =H5-I5 -> 22 | K5: 5-5 | L5: Lost 2
B6: Oakville A's | C6: 2-18 | D6: =2/20 -> 0.1 | E6: 12 | F6: 0-8 | G6: 2-10 | H6: 121 | I6: 271 | J6: =H6-I6 -> -150 | K6: 1-9 | L6: Lost 7
A8: Len Andrews Division | B8: Etobicoke Rangers | C8: 15-3-1 | D8: =15/19 -> 0.78947368 | E8: - | F8: 9-1 | G8: 6-2-1 | H8: 165 | I8: 96 | J8: =H8-I8 -> 69 | K8: 8-1-1 | L8: Won 3
B9: Brampton Royals | C9: 8-10-1 | D9: =8/19 -> 0.42105263 | E9: 7 | F9: 6-6 | G9: 2-4 | H9: 154 | I9: 165 | J9: =H9-I9 -> -11 | K9: 5-5 | L9: Won 1
B10: Erindale Cardinals | C10: 8-14-1 | D10: =8/23 -> 0.34782609 | E10: 9 | F10: 3-8-1 | G10: 5-6 | H10: 156 | I10: 222 | J10: =H10-I10 -> -66 | K10: 5-4-1 | L10: Lost 2
A12: Team Best -Min 5 AB | B12: Batting | C12: GP | D12: PA | E12: AB | F12: R | G12: H | H12: 1B | I12: 2B | J12: 3B | K12: HR | L12: RBI | M12: BB | N12: Sac | O12: K | P12: HBP | Q12: RE | R12: FC | S12: SB | T12: CS | U12: OBP | V12: SLG | W12: OPS | X12: AVG
B13: Caleb Chramow | C13: 3 | D13: 16 | E13: 11 | F13: 4 | G13: 3 | H13: 3 | I13: 0 | J13: 0 | K13: 0 | L13: 4 | M13: 4 | N13: 0 | O13: 1 | P13: 1 | Q13: 1 | R13: 1 | S13: 0 | T13: 0 | U13: 0.5 | V13: 0.27272727 | W13: 0.77272727 | X13: 0.27272727
B14: Patrick Pinlac | C14: 4 | D14: 15 | E14: 12 | F14: 2 | G14: 2 | H14: 2 | I14: 0 | J14: 0 | K14: 0 | L14: 2 | M14: 2 | N14: 0 | O14: 3 | P14: 1 | Q14: 0 | R14: 1 | S14: 1 | T14: 0 | U14: 0.33333333 | V14: 0.16666667 | W14: 0.5 | X14: 0.16666667
B15: Dawson Fascia | C15: 3 | D15: 12 | E15: 11 | F15: 0 | G15: 4 | H15: 4 | I15: 0 | J15: 0 | K15: 0 | L15: 2 | M15: 1 | N15: 0 | O15: 1 | P15: 0 | Q15: 1 | R15: 0 | S15: 1 | T15: 0 | U15: 0.41666667 | V15: 0.36363636 | W15: 0.78030303 | X15: 0.36363636
B16: Joe Ferreira | C16: 4 | D16: 11 | E16: 11 | F16: 2 | G16: 4 | H16: 3 | I16: 1 | J16: 0 | K16: 0 | L16: 3 | M16: 0 | N16: 0 | O16: 3 | P16: 0 | Q16: 0 | R16: 2 | S16: 0 | T16: 0 | U16: 0.36363636 | V16: 0.45454545 | W16: 0.81818182 | X16: 0.36363636
B17: Tyler Barbier | C17: 3 | D17: 12 | E17: 12 | F17: 4 | G17: 6 | H17: 3 | I17: 2 | J17: 1 | K17: 0 | L17: 6 | M17: 0 | N17: 0 | O17: 3 | P17: 0 | Q17: 0 | R17: 1 | S17: 0 | T17: 0 | U17: 0.5 | V17: 0.83333333 | W17: 1.3333333 | X17: 0.5
B18: Sam Lebel | C18: 3 | D18: 13 | E18: 10 | F18: 5 | G18: 4 | H18: 4 | I18: 0 | J18: 0 | K18: 0 | L18: 2 | M18: 2 | N18: 0 | O18: 0 | P18: 1 | Q18: 0 | R18: 1 | S18: 0 | T18: 0 | U18: 0.53846154 | V18: 0.4 | W18: 0.93846154 | X18: 0.4
B19: Keegan Murphy | C19: 3 | D19: 10 | E19: 9 | F19: 2 | G19: 3 | H19: 3 | I19: 0 | J19: 0 | K19: 0 | L19: 1 | M19: 1 | N19: 0 | O19: 3 | P19: 0 | Q19: 1 | R19: 1 | S19: 1 | T19: 0 | U19: 0.4 | V19: 0.33333333 | W19: 0.73333333 | X19: 0.33333333
B20: Aidan Murphy | C20: 3 | D20: 9 | E20: 8 | F20: 1 | G20: 1 | H20: 1 | I20: 0 | J20: 0 | K20: 0 | L20: 1 | M20: 1 | N20: 0 | O20: 3 | P20: 0 | Q20: 0 | R20: 0 | S20: 0 | T20: 0 | U20: 0.22222222 | V20: 0.125 | W20: 0.34722222 | X20: 0.125
B21: Jayden Jeminson | C21: 4 | D21: 13 | E21: 11 | F21: 3 | G21: 5 | H21: 3 | I21: 1 | J21: 1 | K21: 0 | L21: 2 | M21: 2 | N21: 0 | O21: 3 | P21: 0 | Q21: 1 | R21: 0 | S21: 2 | T21: 0 | U21: 0.53846154 | V21: 0.72727273 | W21: 1.2657343 | X21: 0.45454545
B22: Brendan Nolet | C22: 3 | D22: 10 | E22: 7 | F22: 1 | G22: 1 | H22: 1 | I22: 0 | J22: 0 | K22: 0 | L22: 0 | M22: 3 | N22: 0 | O22: 2 | P22: 0 | Q22: 0 | R22: 0 | S22: 1 | T22: 0 | U22: 0.4 | V22: 0.14285714 | W22: 0.54285714 | X22: 0.14285714
B23: Aiden Cowper | C23: 2 | D23: 7 | E23: 5 | F23: 2 | G23: 2 | H23: 1 | I23: 0 | J23: 0 | K23: 1 | L23: 2 | M23: 2 | N23: 0 | O23: 1 | P23: 0 | Q23: 0 | R23: 0 | S23: 0 | T23: 0 | U23: 0.57142857 | V23: 1 | W23: 1.5714286 | X23: 0.4
B24: Ralph Lahey | C24: 3 | D24: 7 | E24: 3 | F24: 2 | G24: 0 | H24: 0 | I24: 0 | J24: 0 | K24: 0 | L24: 1 | M24: 4 | N24: 0 | O24: 0 | P24: 0 | Q24: 0 | R24: 0 | S24: 0 | T24: 0 | U24: 0.57142857 | V24: 0 | W24: 0.57142857 | X24: 0
... B28: Team Totals | C28: 46 | D28: 161 | E28: 128 | F28: 35 | G28: 40 | H28: 32 | I28: 5 | J28: 2 | K28: 1 | L28: 28 | M28: 30 | N28: 0 | O28: 27 | P28: 3 | Q28: 6 | R28: 9 | S28: 9 | T28: 0 | U28: 0.45341615 | V28: 0.40625 | W28: 0.85966615 | X28: 0.3125
A31: Team Best - Min 5 IP | B31: Pitching | C31: G | D31: GS | E31: CG | F31: IP | G31: ER | H31: Hits | I31: HR | J31: K | K31: BB | L31: HBP | M31: WP | N31: Won | O31: Lost | P31: Sv | Q31: ERA | R31: WHIP
B32: Tyler Barbier | C32: 3 | D32: 3 | E32: 0 | F32: 7.2 | G32: 7 | H32: 6 | I32: 0 | J32: 9 | K32: 12 | L32: 1 | M32: 3 | N32: 0 | O32: 1 | P32: 0 | Q32: 8.75 | R32: 2.3498695
B33: Ivan Jakovljevic | C33: 3 | D33: 0 | E33: 0 | F33: 5 | G33: 4 | H33: 3 | I33: 1 | J33: 7 | K33: 8 | L33: 1 | M33: 1 | N33: 2 | O33: 1 | P33: 0 | Q33: 7.2 | R33: 2.2
B34: Myles Swartz | C34: 3 | D34: 0 | E34: 0 | F34: 2 | G34: 0 | H34: 2 | I34: 0 | J34: 1 | K34: 0 | L34: 1 | M34: 0 | N34: 0 | O34: 0 | P34: 0 | Q34: 0 | R34: 1
B35: Sam Lebel | C35: 2 | D35: 0 | E35: 0 | F35: 2 | G35: 1 | H35: 2 | I35: 1 | J35: 2 | K35: 0 | L35: 0 | M35: 0 | N35: 0 | O35: 0 | P35: 0 | Q35: 4.5 | R35: 1
B36: Brendan Nolet | C36: 1 | D36: 0 | E36: 0 | F36: 2.1 | G36: 10 | H36: 8 | I36: 1 | J36: 0 | K36: 6 | L36: 1 | M36: 4 | N36: 0 | O36: 0 | P36: 0 | Q36: 42.857143 | R36: 6.0085837
B37: Alex Emmerson | C37: 1 | D37: 1 | E37: 0 | F37: 7.2 | G37: 9 | H37: 12 | I37: 0 | J37: 5 | K37: 8 | L37: 0 | M37: 2 | N37: 0 | O37: 0 | P37: 0 | Q37: 11.25 | R37: 2.6109661
B38: Kyle Mucin | C38: 1 | D38: 0 | E38: 0 | F38: 1.2 | G38: 0 | H38: 2 | I38: 0 | J38: 3 | K38: 1 | L38: 1 | M38: 0 | N38: 0 | O38: 0 | P38: 0 | Q38: 0 | R38: 0.64377682
B39: Team Totals | C39: =SUM(C32:C38) -> 14 | D39: =SUM(D32:D38) -> 4 | E39: =SUM(E32:E38) -> 0 | F39: 31.1 | G39: =SUM(G32:G38) -> 31 | H39: =SUM(H32:H38) -> 35 | I39: =SUM(I32:I38) -> 3 | J39: =SUM(J32:J38) -> 27 | K39: =SUM(K32:K38) -> 35 | L39: =SUM(L32:L38) -> 5 | M39: =SUM(M32:M38) -> 10 | N39: =SUM(N32:N38) -> 2 | ... P39: =SUM(P32:P38) -> 0 | Q39: 7.7224199 | R39: 2.2508039

Sheet August Update
A1: August Update
A2: Ken Johnson Division | B2: Team | C2: Record | D2: Win % | E2: GB | F2: Home | G2: Away | H2: RF | I2: RA | J2: Diff. | K2: Last 10 | L2: Streak
B3: Waterloo | C3: 16-7-1 | D3: =16/24 -> 0.66666667 | E3: - | F3: 9-2-1 | G3: 7-5 | H3: 205 | I3: 124 | J3: =H3-I3 -> 81 | K3: 7-3 | L3: Won 7
B4: Burlington | C4: 16-8 | D4: =16/24 -> 0.66666667 | E4: .5 | F4: 8-4 | G4: 8-4 | H4: 236 | I4: 134 | J4: =H4-I4 -> 102 | K4: 9-1 | L4: Won 8
B5: Milton | C5: 11-12 | D5: =11/23 -> 0.47826087 | E5: 5 | F5: 7-5 | G5: 4-7 | H5: 205 | I5: 197 | J5: =H5-I5 -> 8 | K5: 5-5 | L5: Lost 4
B6: Oakville | C6: 2-20 | D6: =2/22 -> 0.090909091 | E6: 15 | F6: 0-10 | G6: 2-10 | H6: 127 | I6: 302 | J6: =H6-I6 -> -175 | K6: 1-9 | L6: Lost 9
A7: Len Andrews Division
B8: Etobicoke | C8: 16-4-1 | D8: =16/21 -> 0.76190476 | E8: - | F8: 10-1 | G8: 6-3-1 | H8: 177 | I8: 118 | J8: =H8-I8 -> 59 | K8: 7-2-1 | L8: Lost 1
B9: Brampton | C9: 9-12-1 | D9: =9/22 -> 0.40909091 | E9: 7.5 | F9: 6-5 | G9: 3-7-1 | H9: 187 | I9: 195 | J9: =H9-I9 -> -8 | K9: 5-5 | L9: Lost 2
B10: Erindale | C10: 8-15-1 | D10: =8/24 -> 0.33333333 | E10: 9.5 | F10: 3-8-1 | G10: 5-7 | H10: 165 | I10: 232 | J10: =H10-I10 -> -67 | K10: 5-4-1 | L10: Won 3
B13: Team | C13: Record | D13: Win % | E13: GB | F13: Home | G13: Away | H13: RF | I13: RA | J13: Diff. | K13: Last 10 | L13: Streak
A14: Overall | B14: Etobicoke | C14: 16-4-1 | D14: =16/21 -> 0.76190476 | E14: - | F14: 10-1 | G14: 6-3-1 | H14: 177 | I14: 118 | J14: 59 | K14: 7-2-1 | L14: Lost 1
B15: Waterloo | C15: 16-7-1 | D15: 0.66666667 | E15: 1.5 | F15: 9-2-1 | G15: 7-5 | H15: 205 | I15: 124 | J15: 81 | K15: 7-3 | L15: Won 7
B16: Burlington | C16: 16-8 | D16: =16/24 -> 0.66666667 | E16: 2 | F16: 8-4 | G16: 8-4 | H16: 236 | I16: 102 | J16: =H16-I16 -> 134 | K16: 9-1 | L16: Lost 4
B17: Milton | C17: 11-12 | D17: =11/23 -> 0.47826087 | E17: 6.5 | F17: 7-5 | G17: 4-7 | H17: 205 | I17: 197 | J17: =H17-I17 -> 8 | K17: 5-5 | L17: Lost 4
B18: Brampton | C18: 9-12 | D18: 0.409 | E18: =7.5 -> 7.5 | F18: 6-5 | G18: 3-7-1 | H18: 187 | I18: 195 | J18: =H18-I18 -> -8 | K18: 5-5 | L18: Lost 2
B19: Erindale | C19: 8-15-1 | D19: 0.33333333 | E19: 9.5 | F19: 3-8-1 | G19: 5-7 | H19: 165 | I19: 232 | J19: -67 | K19: 5-4-1 | L19: Won 3
B20: Oakville | C20: 2-20 | D20: 0.090909091 | E20: 15 | F20: 0-10 | G20: 2-10 | H20: 127 | I20: 302 | J20: -175 | K20: 1-9 | L20: Lost 9
A22: Team Best -Min 5 AB | B22: Batting | C22: GP | D22: PA | E22: AB | F22: R | G22: H | H22: 1B | I22: 2B | J22: 3B | K22: HR | L22: RBI | M22: BB | N22: Sac | O22: K | P22: HBP | Q22: RE | R22: FC | S22: SB | T22: CS | U22: OBP | V22: SLG | W22: OPS | X22: AVG
B23: Caleb Chramow | C23: 3 | D23: 14 | E23: 11 | F23: 3 | G23: 4 | H23: 3 | I23: 1 | J23: 0 | K23: 0 | L23: 1 | M23: 2 | N23: 0 | O23: 1 | P23: 1 | Q23: 2 | R23: 0 | S23: 3 | T23: 0 | U23: 0.5 | V23: 0.45454545 | W23: 0.95454545 | X23: 0.36363636
B24: Patrick Pinlac | C24: 3 | D24: 12 | E24: 7 | F24: 6 | G24: 2 | H24: 2 | I24: 0 | J24: 0 | K24: 0 | L24: 3 | M24: 4 | N24: 0 | O24: 1 | P24: 1 | Q24: 0 | R24: 0 | S24: 1 | T24: 0 | U24: 0.58333333 | V24: 0.28571429 | W24: 0.86904762 | X24: 0.28571429
B25: Dawson Fascia | C25: 2 | D25: 6 | E25: 6 | F25: 1 | G25: 1 | H25: 1 | I25: 0 | J25: 0 | K25: 0 | L25: 0 | M25: 0 | N25: 0 | O25: 0 | P25: 0 | Q25: 0 | R25: 0 | S25: 0 | T25: 0 | U25: 0.16666667 | V25: 0.16666667 | W25: 0.33333333 | X25: 0.16666667
B26: Joe Ferreira | C26: 1 | D26: 6 | E26: 4 | F26: 4 | G26: 3 | H26: 2 | I26: 0 | J26: 0 | K26: 1 | L26: 4 | M26: 1 | N26: 0 | O26: 0 | P26: 1 | Q26: 0 | R26: 0 | S26: 0 | T26: 0 | U26: 0.83333333 | V26: 1.5 | W26: 2.3333333 | X26: 0.75
B27: Tyler Barbier | C27: 3 | D27: 14 | E27: 12 | F27: 5 | G27: 6 | H27: 5 | I27: 0 | J27: 0 | K27: 1 | L27: 5 | M27: 2 | N27: 0 | O27: 2 | P27: 0 | Q27: 0 | R27: 1 | S27: 2 | T27: 0 | U27: 0.57142857 | V27: 0.75 | W27: 1.3214286 | X27: 0.5
B28: Brett Butler | C28: 1 | D28: 2 | E28: 2 | F28: 0 | G28: 1 | H28: 1 | I28: 0 | J28: 0 | K28: 0 | L28: 0 | M28: 0 | N28: 0 | O28: 0 | P28: 0 | Q28: 0 | R28: 0 | S28: 0 | T28: 0 | U28: 0.5 | V28: 0.5 | W28: 1 | X28: 0.5
B29: Brendan Nolet | C29: 3 | D29: 13 | E29: 10 | F29: 6 | G29: 2 | H29: 1 | I29: 1 | J29: 0 | K29: 0 | L29: 1 | M29: 3 | N29: 0 | O29: 3 | P29: 0 | Q29: 1 | R29: 2 | S29: 4 | T29: 0 | U29: 0.38461538 | V29: 0.3 | W29: 0.68461538 | X29: 0.2
B30: Matteo Ruggirello | C30: 2 | D30: 6 | E30: 6 | F30: 1 | G30: 3 | H30: 2 | I30: 1 | J30: 0 | K30: 0 | L30: 1 | M30: 0 | N30: 0 | O30: 1 | P30: 0 | Q30: 0 | R30: 1 | S30: 0 | T30: 2 | U30: 0.5 | V30: 0.66666667 | W30: 1.1666667 | X30: 0.5
B31: Aiden Cowper | C31: 1 | D31: 6 | E31: 5 | F31: 0 | G31: 2 | H31: 2 | I31: 0 | J31: 0 | K31: 0 | L31: 2 | M31: 1 | N31: 0 | O31: 0 | P31: 0 | Q31: 0 | R31: 0 | S31: 0 | T31: 0 | U31: 0.5 | V31: 0.4 | W31: 0.9 | X31: 0.4
B32: Ralph Lahey | C32: 2 | D32: 5 | E32: 5 | F32: 0 | G32: 0 | H32: 0 | I32: 0 | J32: 0 | K32: 0 | L32: 0 | M32: 0 | N32: 0 | O32: 1 | P32: 0 | Q32: 0 | R32: 0 | S32: 0 | T32: 0 | U32: 0 | V32: 0 | W32: 0 | X32: 0
B33: Ethan Chramow | C33: 3 | D33: 11 | E33: 9 | F33: 3 | G33: 1 | H33: 1 | I33: 0 | J33: 0 | K33: 0 | L33: 1 | M33: 2 | N33: 0 | O33: 4 | P33: 0 | Q33: 2 | R33: 2 | S33: 0 | T33: 0 | U33: 0.27272727 | V33: 0.11111111 | W33: 0.38383838 | X33: 0.11111111
B34: Alex Emmerson | C34: 1 | D34: 3 | E34: 3 | F34: 0 | G34: 1 | H34: 1 | I34: 0 | J34: 0 | K34: 0 | L34: 2 | M34: 0 | N34: 0 | O34: 2 | P34: 0 | Q34: 0 | R34: 0 | S34: 0 | T34: 0 | U34: 0.33333333 | V34: 0.33333333 | W34: 0.66666667 | X34: 0.33333333
... B37: Team Totals | C37: 30 | D37: 119 | E37: 96 | F37: 33 | G37: 32 | H37: 26 | I37: 3 | J37: 0 | K37: 3 | L37: 25 | M37: 17 | N37: 0 | O37: 16 | P37: 6 | Q37: 6 | R37: 6 | S37: 13 | T37: 2 | U37: 0.46218487 | V37: 0.45833333 | W37: 0.92051821 | X37: 0.33333333
A40: Team Best - Min 5 IP | B40: Pitching | C40: G | D40: GS | E40: CG | F40: IP | G40: ER | H40: Hits | I40: HR | J40: K | K40: BB | L40: HBP | M40: WP | N40: Won | O40: Lost | P40: Sv | Q40: ERA | R40: WHIP
B41: Ivan Jakovljevic | C41: 1 | D41: 0 | E41: 0 | F41: 2 | G41: 4 | H41: 6 | I41: 0 | J41: 3 | K41: 2 | L41: 0 | M41: 1 | N41: 0 | O41: 0 | P41: 0 | Q41: 18 | R41: 4
B42: Myles Swartz | C42: 1 | D42: 1 | E42: 0 | F42: 5 | G42: 0 | H42: 8 | I42: 0 | J42: 3 | K42: 0 | L42: 1 | M42: 0 | N42: 0 | O42: 0 | P42: 0 | Q42: 0 | R42: 1.6
B43: Aidan Murphy | C43: 1 | D43: 1 | E43: 0 | F43: 5 | G43: 0 | H43: 2 | I43: 0 | J43: 10 | K43: 1 | L43: 0 | M43: 0 | N43: 1 | O43: 0 | P43: 0 | Q43: 0 | R43: 0.6
B44: Brendan Nolet | C44: 1 | D44: 1 | E44: 0 | F44: 3.2 | G44: 3 | H44: 5 | I44: 0 | J44: 1 | K44: 5 | L44: 2 | M44: 3 | N44: 0 | O44: 1 | P44: 0 | Q44: 7.3770492 | R44: 2.7322404
B45: Patreek Shrestha | C45: 1 | D45: 0 | E45: 0 | F45: 1 | G45: 4 | H45: 4 | I45: 1 | J45: 3 | K45: 0 | L45: 0 | M45: 1 | N45: 0 | O45: 0 | P45: 0 | Q45: 36 | R45: 4
B46: Alex Emmerson | C46: 1 | D46: 0 | E46: 0 | F46: 2.1 | G46: 3 | H46: 5 | I46: 0 | J46: 0 | K46: 1 | L46: 0 | M46: 1 | N46: 0 | O46: 0 | P46: 0 | Q46: 11.587983 | R46: 2.5751073
B47: Caymon Ghannie | C47: 1 | D47: 0 | E47: 0 | F47: 1 | G47: 4 | H47: 4 | I47: 1 | J47: 0 | K47: 0 | L47: 1 | M47: 0 | N47: 0 | O47: 1 | P47: 0 | Q47: 36 | R47: 4
...

Sheet Batting by month
B1: Batting
B4: Caleb Chramow | C4: League | D4: GP | E4: PA | F4: AB | G4: R | H4: H | I4: 1B | J4: 2B | K4: 3B | L4: HR | M4: RBI | N4: BB | O4: Sac | P4: K | Q4: HBP | R4: RE | S4: FC | T4: SB | U4: CS | V4: OBP | W4: SLG | X4: OPS | Y4: AVG
B5: #1 | C5: May | D5: 7 | E5: 25 | F5: 20 | G5: 6 | H5: 9 | I5: 7 | J5: 2 | K5: 0 | L5: 0 | M5: 4 | N5: 4 | O5: 0 | P5: 5 | Q5: 1 | R5: 0 | S5: 1 | T5: 1 | U5: 0 | V5: 0.56 | W5: 0.55 | X5: 1.11 | Y5: 0.45
C6: June | D6: 5 | E6: 16 | F6: 15 | G6: 4 | H6: 6 | I6: 5 | J6: 1 | K6: 0 | L6: 0 | M6: 2 | N6: 1 | O6: 0 | P6: 3 | Q6: 0 | R6: 1 | S6: 1 | T6: 2 | U6: 0 | V6: 0.4375 | W6: 0.46666667 | X6: 0.90416667 | Y6: 0.4
C7: July | D7: 3 | E7: 16 | F7: 11 | G7: 4 | H7: 3 | I7: 3 | J7: 0 | K7: 0 | L7: 0 | M7: 4 | N7: 4 | O7: 0 | P7: 1 | Q7: 1 | R7: 1 | S7: 1 | T7: 0 | U7: 0 | V7: 0.5 | W7: 0.27272727 | X7: 0.77272727 | Y7: 0.27272727
C8: August | D8: 3 | E8: 14 | F8: 11 | G8: 3 | H8: 4 | I8: 3 | J8: 1 | K8: 0 | L8: 0 | M8: 1 | N8: 2 | O8: 0 | P8: 1 | Q8: 1 | R8: 2 | S8: 0 | T8: 3 | U8: 0 | V8: 0.5 | W8: 0.45454545 | X8: 0.95454545 | Y8: 0.36363636
C9: League | D9: =SUM(D5:D8) -> 18 | E9: =SUM(E5:E8) -> 71 | F9: =SUM(F5:F8) -> 57 | G9: =SUM(G5:G8) -> 17 | H9: =SUM(H5:H8) -> 22 | I9: =SUM(I5:I8) -> 18 | J9: =SUM(J5:J8) -> 4 | K9: =SUM(K5:K8) -> 0 | ... U9: =SUM(U5:U8) -> 0 | V9: =(H9+N9+Q9)/(F9+N9+Q9+O9) -> 0.50704225 | W9: =(I9+J9*2+K9*3+L9*4)/F9 -> 0.45614035 | X9: =V9+W9 -> 0.9631826 | Y9: =H9/F9 -> 0.38596491
C11: Tournaments
C12: Sarnia | D12: 3 | E12: 9 | F12: 8 | G12: 2 | H12: 5 | I12: 2 | J12: 3 | K12: 0 | L12: 0 | M12: 6 | N12: 0 | O12: 0 | P12: 2 | Q12: 1 | R12: 0 | S12: 0 | T12: 1 | U12: 0 | V12: =(H12+N12+Q12)/(F12+N12+Q12+O12) -> 0.66666667 | W12: =(I12+J12*2+K12*3+L12*4)/F12 -> 1 | X12: =V12+W12 -> 1.6666667 | Y12: =H12/F12 -> 0.625
C13: Vaughan | D13: 4 | E13: 9 | F13: 8 | G13: 0 | H13: 0 | I13: 0 | J13: 0 | K13: 0 | L13: 0 | M13: 0 | N13: 1 | O13: 0 | P13: 4 | Q13: 0 | R13: 1 | S13: 0 | T13: 0 | U13: 0 | V13: =(H13+N13+Q13)/(F13+N13+Q13+O13) -> 0.11111111 | W13: =(I13+J13*2+K13*3+L13*4)/F13 -> 0 | X13: =V13+W13 -> 0.11111111 | Y13: =H13/F13 -> 0
C14: Hap Walters | D14: 1 | E14: 4 | F14: 0 | G14: 2 | H14: 0 | I14: 0 | J14: 0 | K14: 0 | L14: 0 | M14: 0 | N14: 3 | O14: 0 | P14: 0 | Q14: 1 | R14: 0 | S14: 0 | T14: 1 | U14: 0 | V14: =(H14+N14+Q14)/(F14+N14+Q14+O14) -> 1 | W14: 0 | X14: =V14+W14 -> 1 | Y14: 0
C15: Nat. Qualifier | D15: 5 | E15: 19 | F15: 10 | G15: 2 | H15: 1 | I15: 0 | J15: 1 | K15: 0 | L15: 0 | M15: 3 | N15: 5 | O15: 0 | P15: 4 | Q15: 4 | R15: 0 | S15: 0 | T15: 1 | U15: 0 | V15: =(H15+N15+Q15)/(F15+N15+Q15+O15) -> 0.52631579 | W15: =(I15+J15*2+K15*3+L15*4)/F15 -> 0.2 | X15: =V15+W15 -> 0.72631579 | Y15: =H15/F15 -> 0.1
C16: Tournaments | D16: =SUM(D12:D15) -> 13 | E16: =SUM(E12:E15) -> 41 | F16: =SUM(F12:F15) -> 26 | G16: =SUM(G12:G15) -> 6 | H16: =SUM(H12:H15) -> 6 | I16: =SUM(I12:I15) -> 2 | J16: =SUM(J12:J15) -> 4 | K16: =SUM(K12:K15) -> 0 | ... U16: =SUM(U12:U15) -> 0 | V16: =(H16+N16+Q16)/(F16+N16+Q16+O16) -> 0.51219512 | W16: =(I16+J16*2+K16*3+L16*4)/F16 -> 0.38461538 | X16: =V16+W16 -> 0.89681051 | Y16: =H16/F16 -> 0.23076923
C18: Season Totals | D18: =D9+D16 -> 31 | E18: =E9+E16 -> 112 | F18: =F9+F16 -> 83 | G18: =G9+G16 -> 23 | H18: =H9+H16 -> 28 | I18: =I9+I16 -> 20 | J18: =J9+J16 -> 8 | K18: =K9+K16 -> 0 | ... U18: =U9+U16 -> 0 | V18: =(H18+N18+Q18)/(F18+N18+Q18+O18) -> 0.50892857 | W18: =(I18+J18*2+K18*3+L18*4)/F18 -> 0.43373494 | X18: =V18+W18 -> 0.94266351 | Y18: =H18/F18 -> 0.3373494
B21: Patrick Pinlac | C21: League | D21: GP | E21: PA | F21: AB | G21: R | H21: H | I21: 1B | J21: 2B | K21: 3B | L21: HR | M21: RBI | N21: BB | O21: Sac | P21: K | Q21: HBP | R21: RE | S21: FC | T21: SB | U21: CS | V21: OBP | W21: SLG | X21: OPS | Y21: AVG
B22: #2 | C22: May | D22: 11 | E22: 29 | F22: 23 | G22: 12 | H22: 11 | I22: 8 | J22: 3 | K22: 0 | L22: 0 | M22: 6 | N22: 2 | O22: 0 | P22: 4 | Q22: 2 | R22: 1 | S22: 2 | T22: 4 | U22: 0 | V22: 0.55555556 | W22: 0.60869565 | X22: 1.1642512 | Y22: 0.47826087
C23: June | D23: 7 | E23: 30 | F23: 26 | G23: 4 | H23: 7 | I23: 5 | J23: 1 | K23: 1 | L23: 0 | M23: 7 | N23: 2 | O23: 0 | P23: 9 | Q23: 2 | R23: 1 | S23: 0 | T23: 2 | U23: 0 | V23: 0.36666667 | W23: 0.38461538 | X23: 0.75128205 | Y23: 0.26923077
C24: July | D24: 4 | E24: 15 | F24: 12 | G24: 2 | H24: 2 | I24: 2 | J24: 0 | K24: 0 | L24: 0 | M24: 2 | N24: 2 | O24: 0 | P24: 3 | Q24: 1 | R24: 0 | S24: 1 | T24: 1 | U24: 0 | V24: 0.33333333 | W24: 0.16666667 | X24: 0.5 | Y24: 0.16666667
C25: August | D25: 3 | E25: 12 | F25: 7 | G25: 6 | H25: 2 | I25: 2 | J25: 0 | K25: 0 | L25: 0 | M25: 3 | N25: 4 | O25: 0 | P25: 1 | Q25: 1 | R25: 0 | S25: 0 | T25: 1 | U25: 0 | V25: 0.58333333 | W25: 0.28571429 | X25: 0.86904762 | Y25: 0.28571429
C26: League | D26: =SUM(D22:D25) -> 25 | E26: =SUM(E22:E25) -> 86 | F26: =SUM(F22:F25) -> 68 | G26: =SUM(G22:G25) -> 24 | H26: =SUM(H22:H25) -> 22 | I26: =SUM(I22:I25) -> 17 | J26: =SUM(J22:J25) -> 4 | K26: =SUM(K22:K25) -> 1 | ... U26: =SUM(U22:U25) -> 0 | V26: =(H26+N26+Q26)/(F26+N26+Q26+O26) -> 0.45238095 | W26: =(I26+J26*2+K26*3+L26*4)/F26 -> 0.41176471 | X26: =V26+W26 -> 0.86414566 | Y26: =H26/F26 -> 0.32352941
C28: Tournaments
C29: Sarnia | D29: 3 | E29: 10 | F29: 8 | G29: 3 | H29: 0 | I29: 0 | J29: 0 | K29: 0 | L29: 0 | M29: 0 | N29: 2 | O29: 0 | P29: 2 | Q29: 0 | R29: 1 | S29: 2 | T29: 2 | U29: 0 | V29: =(H29+N29+Q29)/(F29+N29+Q29+O29) -> 0.2 | W29: =(I29+J29*2+K29*3+L29*4)/F29 -> 0 | X29: =V29+W29 -> 0.2 | Y29: =H29/F29 -> 0
C30: Vaughan | D30: 4 | E30: 14 | F30: 10 | G30: 1 | H30: 1 | I30: 0 | J30: 1 | K30: 0 | L30: 0 | M30: 2 | N30: 2 | O30: 0 | P30: 4 | Q30: 1 | R30: 0 | S30: 0 | T30: 0 | U30: 0 | V30: =(H30+N30+Q30)/(F30+N30+Q30+O30) -> 0.30769231 | W30: =(I30+J30*2+K30*3+L30*4)/F30 -> 0.2 | X30: =V30+W30 -> 0.50769231 | Y30: =H30/F30 -> 0.1
C31: London | D31: 3 | E31: 10 | F31: 10 | G31: 1 | H31: 3 | I31: 2 | J31: 0 | K31: 0 | L31: 1 | M31: 4 | N31: 0 | O31: 0 | P31: 4 | Q31: 0 | R31: 0 | S31: 2 | T31: 0 | U31: 0 | V31: =(H31+N31+Q31)/(F31+N31+Q31+O31) -> 0.3 | W31: =(I31+J31*2+K31*3+L31*4)/F31 -> 0.6 | X31: =V31+W31 -> 0.9 | Y31: =H31/F31 -> 0.3
C32: Hap Walters | D32: 2 | E32: 8 | F32: 8 | G32: 2 | H32: 1 | I32: 0 | J32: 1 | K32: 0 | L32: 0 | M32: 3 | N32: 0 | O32: 0 | P32: 2 | Q32: 0 | R32: 0 | S32: 2 | T32: 1 | U32: 0 | V32: =(H32+N32+Q32)/(F32+N32+Q32+O32) -> 0.125 | W32: =(I32+J32*2+K32*3+L32*4)/F32 -> 0.25 | X32: =V32+W32 -> 0.375 | Y32: =H32/F32 -> 0.125
C33: Playoffs | D33: 3 | E33: 11 | F33: 8 | G33: 2 | H33: 2 | I33: 2 | J33: 0 | K33: 0 | L33: 0 | M33: 0 | N33: 2 | O33: 0 | P33: 3 | Q33: 1 | R33: 0 | S33: 0 | T33: 0 | U33: 1 | V33: =(H33+N33+Q33)/(F33+N33+Q33+O33) -> 0.45454545 | W33: =(I33+J33*2+K33*3+L33*4)/F33 -> 0.25 | X33: =V33+W33 -> 0.70454545 | Y33: =H33/F33 -> 0.25
C34: Tournaments | D34: =SUM(D29:D33) -> 15 | E34: =SUM(E29:E33) -> 53 | F34: =SUM(F29:F33) -> 44 | G34: =SUM(G29:G33) -> 9 | H34: =SUM(H29:H33) -> 7 | I34: =SUM(I29:I33) -> 4 | J34: =SUM(J29:J33) -> 2 | K34: =SUM(K29:K33) -> 0 | ... U34: =SUM(U29:U33) -> 1 | V34: =(H34+N34+Q34)/(F34+N34+Q34+O34) -> 0.28846154 | W34: =(I34+J34*2+K34*3+L34*4)/F34 -> 0.27272727 | X34: =V34+W34 -> 0.56118881 | Y34: =H34/F34 -> 0.15909091
C36: Season Totals | D36: =D26+D34 -> 40 | E36: =E26+E34 -> 139 | F36: =F26+F34 -> 112 | G36: =G26+G34 -> 33 | H36: =H26+H34 -> 29 | I36: =I26+I34 -> 21 | J36: =J26+J34 -> 6 | K36: =K26+K34 -> 1 | ... U36: =U26+U34 -> 1 | V36: =(H36+N36+Q36)/(F36+N36+Q36+O36) -> 0.38970588 | W36: =(I36+J36*2+K36*3+L36*4)/F36 -> 0.35714286 | X36: =V36+W36 -> 0.74684874 | Y36: =H36/F36 -> 0.25892857
B39: Dawson Fascia | C39: League | D39: GP | E39: PA | F39: AB | G39: R | H39: H | I39: 1B | J39: 2B | K39: 3B | L39: HR | M39: RBI | N39: BB | O39: Sac | P39: K | Q39: HBP | R39: RE | S39: FC | T39: SB | U39: CS | V39: OBP | W39: SLG | X39: OPS | Y39: AVG
B40: #3 | C40: May | D40: 5 | E40: 19 | F40: 16 | G40: 1 | H40: 5 | I40: 4 | J40: 1 | K40: 0 | L40: 0 | M40: 2 | N40: 2 | O40: 0 | P40: 1 | Q40: 0 | R40: 0 | S40: 2 | T40: 1 | U40: 1 | V40: 0.38888889 | W40: 0.375 | X40: 0.76388889 | Y40: 0.3125
C41: June | D41: 6 | E41: 21 | F41: 16 | G41: 2 | H41: 1 | I41: 1 | J41: 0 | K41: 0 | L41: 0 | M41: 2 | N41: 2 | O41: 1 | P41: 3 | Q41: 2 | R41: 2 | S41: 1 | T41: 3 | U41: 0 | V41: 0.23809524 | W41: 0.0625 | X41: 0.30059524 | Y41: 0.0625
C42: July | D42: 3 | E42: 12 | F42: 11 | G42: 0 | H42: 4 | I42: 4 | J42: 0 | K42: 0 | L42: 0 | M42: 2 | N42: 1 | O42: 0 | P42: 1 | Q42: 0 | R42: 1 | S42: 0 | T42: 1 | U42: 0 | V42: 0.41666667 | W42: 0.36363636 | X42: 0.78030303 | Y42: 0.36363636
C43: August | D43: 2 | E43: 6 | F43: 6 | G43: 1 | H43: 1 | I43: 1 | J43: 0 | K43: 0 | L43: 0 | M43: 0 | N43: 0 | O43: 0 | P43: 0 | Q43: 0 | R43: 0 | S43: 0 | T43: 0 | U43: 0 | V43: 0.16666667 | W43: 0.16666667 | X43: 0.33333333 | Y43: 0.16666667
C44: League | D44: =SUM(D40:D43) -> 16 | E44: =SUM(E40:E43) -> 58 | F44: =SUM(F40:F43) -> 49 | G44: =SUM(G40:G43) -> 4 | H44: =SUM(H40:H43) -> 11 | I44: =SUM(I40:I43) -> 10 | J44: =SUM(J40:J43) -> 1 | K44: =SUM(K40:K43) -> 0 | ... U44: =SUM(U40:U43) -> 1 | V44: =(H44+N44+Q44)/(F44+N44+Q44+O44) -> 0.31578947 | W44: =(I44+J44*2+K44*3+L44*4)/F44 -> 0.24489796 | X44: =V44+W44 -> 0.56068743 | Y44: =H44/F44 -> 0.2244898
C46: Tournaments
C47: Sarnia | D47: 3 | E47: 7 | F47: 5 | G47: 2 | H47: 2 | I47: 2 | J47: 0 | K47: 0 | L47: 0 | M47: 3 | N47: 1 | O47: 0 | P47: 1 | Q47: 1 | R47: 0 | S47: 0 | T47: 0 | U47: 0 | V47: =(H47+N47+Q47)/(F47+N47+Q47+O47) -> 0.57142857 | W47: =(I47+J47*2+K47*3+L47*4)/F47 -> 0.4 | X47: =V47+W47 -> 0.97142857 | Y47: =H47/F47 -> 0.4
C48: Vaughan | D48: 3 | E48: 11 | F48: 11 | G48: 1 | H48: 2 | I48: 1 | J48: 1 | K48: 0 | L48: 0 | M48: 0 | N48: 0 | O48: 0 | P48: 1 | Q48: 0 | R48: 0 | S48: 0 | T48: 0 | U48: 0 | V48: =(H48+N48+Q48)/(F48+N48+Q48+O48) -> 0.18181818 | W48: =(I48+J48*2+K48*3+L48*4)/F48 -> 0.27272727 | X48: =V48+W48 -> 0.45454545 | Y48: =H48/F48 -> 0.18181818
C49: London | D49: 3 | E49: 13 | F49: 11 | G49: 4 | H49: 3 | I49: 1 | J49: 2 | K49: 0 | L49: 0 | M49: 2 | N49: 2 | O49: 0 | P49: 1 | Q49: 0 | R49: 0 | S49: 0 | T49: 0 | U49: 0 | V49: =(H49+N49+Q49)/(F49+N49+Q49+O49) -> 0.38461538 | W49: =(I49+J49*2+K49*3+L49*4)/F49 -> 0.45454545 | X49: =V49+W49 -> 0.83916084 | Y49: =H49/F49 -> 0.27272727
C50: Hap Walters | D50: 2 | E50: 8 | F50: 7 | G50: 3 | H50: 3 | I50: 3 | J50: 0 | K50: 0 | L50: 0 | M50: 3 | N50: 1 | O50: 0 | P50: 0 | Q50: 0 | R50: 1 | S50: 0 | T50: 0 | U50: 0 | V50: =(H50+N50+Q50)/(F50+N50+Q50+O50) -> 0.5 | W50: =(I50+J50*2+K50*3+L50*4)/F50 -> 0.42857143 | X50: =V50+W50 -> 0.92857143 | Y50: =H50/F50 -> 0.42857143
C51: Nat. Qualifier | D51: 5 | E51: 20 | F51: 17 | G51: 1 | H51: 6 | I51: 6 | J51: 0 | K51: 0 | L51: 0 | M51: 3 | N51: 1 | O51: 0 | P51: 2 | Q51: 1 | R51: 0 | S51: 2 | T51: 1 | U51: 0 | V51: =(H51+N51+Q51)/(F51+N51+Q51+O51) -> 0.42105263 | W51: =(I51+J51*2+K51*3+L51*4)/F51 -> 0.35294118 | X51: =V51+W51 -> 0.77399381 | Y51: =H51/F51 -> 0.35294118
...

Sheet Pitching by Month
B1: Pitching
B5: Joe Ferreira | C5: League | D5: G | E5: GS | F5: CG | G5: IP | H5: ER | I5: Hits | J5: HR | K5: K | L5: BB | M5: HBP | N5: WP | O5: Won | P5: Lost | Q5: Sv | R5: ERA | S5: WHIP
B6: #6 | C6: May | D6: 3 | E6: 1 | F6: 0 | G6: 5 | H6: 3 | I6: 4 | J6: 0 | K6: 7 | L6: 3 | M6: 1 | N6: 0 | O6: 0 | P6: 0 | Q6: 0 | R6: =9*H6/G6 -> 5.4 | S6: 1.4
C7: League | D7: 3 | E7: 1 | F7: 0 | G7: 5 | H7: 3 | I7: 4 | J7: 0 | K7: 7 | L7: 3 | M7: 1 | N7: 0 | O7: 0 | P7: 0 | Q7: 0 | R7: 5.4 | S7: 1.4
C9: Tournaments
C10: Sarnia | D10: 1 | E10: 1 | F10: 0 | G10: 4.1 | H10: 9 | I10: 12 | J10: 1 | K10: 2 | L10: 2 | M10: 1 | N10: 0 | O10: 0 | P10: 0 | Q10: 0 | R10: 14.549654 | S10: 3.2332564
C11: Vaughan | D11: 1 | E11: 1 | F11: 1 | G11: 6 | H11: 3 | I11: 6 | J11: 1 | K11: 4 | L11: 0 | M11: 1 | N11: 0 | O11: 0 | P11: 1 | Q11: 0 | R11: 3.5 | S11: 1
C12: Hap Walters | D12: 1 | E12: 1 | F12: 1 | G12: 7 | H12: 3 | I12: 10 | J12: 0 | K12: 8 | L12: 0 | M12: 0 | N12: 0 | O12: 1 | P12: 0 | Q12: 0 | R12: 3 | S12: 1.4285714
C13: Nat. Qualifier | D13: 1 | E13: 1 | F13: 0 | G13: 7 | H13: 10 | I13: 12 | J13: 2 | K13: 10 | L13: 3 | M13: 0 | N13: 0 | O13: 0 | P13: 1 | Q13: 0 | R13: 10 | S13: 2.1428571
C14: Playoffs | D14: 1 | E14: 1 | F14: 0 | G14: 6 | H14: 3 | I14: 8 | J14: 1 | K14: 9 | L14: 3 | M14: 0 | N14: 0 | O14: 1 | P14: 0 | Q14: 0 | R14: 3.5 | S14: 1.8333333
C15: Tournaments | D15: 5 | E15: 5 | F15: 2 | G15: 30.1 | H15: 28 | I15: 48 | J15: 5 | K15: 33 | L15: 8 | M15: 2 | N15: 0 | O15: 2 | P15: 2 | Q15: 0 | R15: 6.4622486 | S15: 1.8463567
C17: Season Totals | D17: 8 | E17: 6 | F17: 2 | G17: 35.1 | H17: 31 | I17: 52 | J17: 5 | K17: 40 | L17: 11 | M17: 3 | N17: 0 | O17: 2 | P17: 2 | Q17: 0 | R17: 6.3175771 | S17: 1.7831871
B20: Tyler Barbier | C20: League | D20: G | E20: GS | F20: CG | G20: IP | H20: ER | I20: Hits | J20: HR | K20: K | L20: BB | M20: HBP | N20: WP | O20: Won | P20: Lost | Q20: Sv | R20: ERA | S20: WHIP
B21: #8 | C21: May | D21: 1 | E21: 1 | F21: 0 | G21: 3 | H21: 0 | I21: 1 | J21: 0 | K21: 7 | L21: 4 | M21: 0 | N21: 0 | O21: 0 | P21: 0 | Q21: 0 | R21: 0 | S21: 1.6666667
C22: June | D22: 1 | E22: 1 | F22: 0 | G22: 3 | H22: 1 | I22: 1 | J22: 0 | K22: 3 | L22: 4 | M22: 0 | N22: 3 | O22: 0 | P22: 0 | Q22: 0 | R22: 3 | S22: 1.6666667
C23: July | D23: 3 | E23: 3 | F23: 0 | G23: 7.2 | H23: 7 | I23: 6 | J23: 0 | K23: 9 | L23: 12 | M23: 1 | N23: 3 | O23: 0 | P23: 1 | Q23: 0 | R23: 8.2245431 | S23: 2.3498695
C24: League | D24: 5 | E24: 5 | F24: 0 | G24: 13.2 | H24: 8 | I24: 8 | J24: 0 | K24: 19 | L24: 20 | M24: 1 | N24: 6 | O24: 0 | P24: 1 | Q24: 0 | R24: 5.2708638 | S24: 2.1212121
C26: Tournaments
C27: Sarnia | D27: 1 | E27: 1 | F27: 1 | G27: 4 | H27: 0 | I27: 1 | J27: 0 | K27: 7 | L27: 0 | M27: 0 | N27: 0 | O27: 1 | P27: 0 | Q27: 0 | R27: 0 | S27: 0.25
C28: Nat. Qualifier | D28: 1 | E28: 1 | F28: 0 | G28: 4 | H28: 1 | I28: 1 | J28: 0 | K28: 3 | L28: 4 | M28: 0 | N28: 0 | O28: 0 | P28: 0 | Q28: 0 | R28: 1.75 | S28: 1.25
C29: Tournaments | D29: 2 | E29: 2 | F29: 1 | G29: 8 | H29: 1 | I29: 2 | J29: 0 | K29: 10 | L29: 4 | M29: 0 | N29: 0 | O29: 1 | P29: 0 | Q29: 0 | R29: 0.875 | S29: 0.75
C31: Season Totals | D31: 7 | E31: 7 | F31: 1 | G31: 21.2 | H31: 9 | I31: 10 | J31: 0 | K31: 29 | L31: 24 | M31: 1 | N31: 6 | O31: 1 | P31: 1 | Q31: 0 | R31: 3.4487535 | S31: 1.5697138
B34: Ivan Jakovljevic | C34: League | D34: G | E34: GS | F34: CG | G34: IP | H34: ER | I34: Hits | J34: HR | K34: K | L34: BB | M34: HBP | N34: WP | O34: Won | P34: Lost | Q34: Sv | R34: ERA | S34: WHIP
B35: #10 | C35: May | D35: 4 | E35: 0 | F35: 0 | G35: 4 | H35: 7 | I35: 5 | J35: 0 | K35: 5 | L35: 10 | M35: 1 | N35: 4 | O35: 0 | P35: 1 | Q35: 0 | R35: 15.75 | S35: 3.75
C36: June | D36: 4 | E36: 0 | F36: 0 | G36: 9.1 | H36: 9 | I36: 11 | J36: 1 | K36: 7 | L36: 10 | M36: 0 | N36: 1 | O36: 0 | P36: 1 | Q36: 0 | R36: 8.681672 | S36: 2.2508039
C37: July | D37: 3 | E37: 0 | F37: 0 | G37: 5 | H37: 4 | I37: 3 | J37: 1 | K37: 7 | L37: 8 | M37: 1 | N37: 1 | O37: 2 | P37: 1 | Q37: 0 | R37: 7.2 | S37: 2.2
C38: August | D38: 1 | E38: 0 | F38: 0 | G38: 2 | H38: 4 | I38: 6 | J38: 0 | K38: 3 | L38: 2 | M38: 0 | N38: 1 | O38: 0 | P38: 0 | Q38: 0 | R38: 18 | S38: 4
C39: League | D39: 12 | E39: 0 | F39: 0 | G39: 20.1 | H39: 24 | I39: 25 | J39: 2 | K39: 22 | L39: 30 | M39: 2 | N39: 7 | O39: 2 | P39: 3 | Q39: 0 | R39: 10.746269 | S39: 2.7363184
C41: Tournaments
C42: Sarnia | D42: 1 | E42: 0 | F42: 0 | G42: 0.1 | H42: 2 | I42: 0 | J42: 0 | K42: 1 | L42: 4 | M42: 0 | N42: 0 | O42: 0 | P42: 0 | Q42: 0 | R42: 42.424242 | S42: 12.121212
C43: London | D43: 1 | E43: 1 | F43: 0 | G43: 1 | H43: 1 | I43: 2 | J43: 0 | K43: 1 | L43: 0 | M43: 0 | N43: 1 | O43: 0 | P43: 0 | Q43: 0 | R43: 7 | S43: 2
C44: Tournaments | D44: 2 | E44: 1 | F44: 0 | G44: 1.1 | H44: 3 | I44: 2 | J44: 0 | K44: 2 | L44: 4 | M44: 0 | N44: 1 | O44: 0 | P44: 0 | Q44: 0 | R44: 15.789474 | S44: 4.5112782
C46: Season Totals | D46: 14 | E46: 1 | F46: 0 | G46: 21.2 | H46: 27 | I46: 27 | J46: 2 | K46: 24 | L46: 34 | M46: 2 | N46: 8 | O46: 2 | P46: 3 | Q46: 0 | R46: 11.339244 | S46: 2.8464769
B49: Eric Ferreira | C49: League | D49: G | E49: GS | F49: CG | G49: IP | H49: ER | I49: Hits | J49: HR | K49: K | L49: BB | M49: HBP | N49: WP | O49: Won | P49: Lost | Q49: Sv | R49: ERA | S49: WHIP
B50: #17 | C50: May | D50: 2 | E50: 0 | F50: 0 | G50: 2 | H50: 1 | I50: 2 | J50: 0 | K50: 2 | L50: 4 | M50: 0 | N50: 0 | O50: 0 | P50: 0 | Q50: 0 | R50: 4.5 | S50: 3
C51: League | D51: 2 | E51: 0 | F51: 0 | G51: 2 | H51: 1 | I51: 2 | J51: 0 | K51: 2 | L51: 4 | M51: 0 | N51: 0 | O51: 0 | P51: 0 | Q51: 0 | R51: 4.5 | S51: 3
C53: Tournaments
C54: Sarnia | D54: 1 | E54: 0 | F54: 0 | G54: 2.2 | H54: 0 | I54: 2 | J54: 0 | K54: 1 | L54: 1 | M54: 0 | N54: 0 | O54: 0 | P54: 0 | Q54: 0 | R54: 0 | S54: 1.1278195
C55: Vaughan | D55: 1 | E55: 0 | F55: 0 | G55: 1 | H55: 5 | I55: 5 | J55: 0 | K55: 1 | L55: 0 | M55: 0 | N55: 0 | O55: 0 | P55: 0 | Q55: 0 | R55: 35 | S55: 5
C56: London | D56: 1 | E56: 0 | F56: 0 | G56: 2.1 | H56: 1 | I56: 4 | J56: 0 | K56: 3 | L56: 1 | M56: 0 | N56: 0 | O56: 0 | P56: 0 | Q56: 0 | R56: 3.0042918 | S56: 2.1459227
...

Sheet 2026 Regular Season
G2: 2026 Regular Season Batting | AE2: 2026 Regular Season Pitching
B3: Team Best -Min 15 AB | AA3: Team Best - Min 5 IP
B4: Batting | C4: GP | D4: PA | E4: AB | F4: R | G4: H | H4: 1B | I4: 2B | J4: 3B | K4: HR | L4: RBI | M4: BB | N4: Sac | O4: K | P4: HBP | Q4: RE | R4: FC | S4: SB | T4: CS | U4: OBP | V4: SLG | W4: OPS | X4: AVG | AA4: Pitching | AB4: G | AC4: GS | AD4: CG | AE4: IP | AF4: ER | AG4: Hits | AH4: HR | AI4: K | AJ4: BB | AK4: HBP | AL4: WP | AM4: Won | AN4: Lost | AO4: Sv | AP4: ERA | AQ4: WHIP
B5: Patrick Pinlac | C5: 25 | D5: 86 | E5: 68 | F5: 24 | G5: 22 | H5: 17 | I5: 4 | J5: 1 | K5: 0 | L5: 18 | M5: 10 | N5: 0 | O5: 17 | P5: 6 | Q5: 2 | R5: 3 | S5: 8 | T5: 0 | U5: 0.45238095 | V5: 0.41176471 | W5: 0.86414566 | X5: 0.32352941 | AA5: Joe Ferreira | AB5: 3 | AC5: 1 | AD5: 0 | AE5: 5 | AF5: 3 | AG5: 4 | AH5: 0 | AI5: 7 | AJ5: 3 | AK5: 1 | AL5: 0 | AM5: 0 | AN5: 0 | AO5: 0 | AP5: 5.4 | AQ5: 1.4
B6: Caleb Chramow | C6: 18 | D6: 71 | E6: 57 | F6: 17 | G6: 22 | H6: 18 | I6: 4 | J6: 0 | K6: 0 | L6: 11 | M6: 11 | N6: 0 | O6: 10 | P6: 3 | Q6: 4 | R6: 3 | S6: 6 | T6: 0 | U6: 0.50704225 | V6: 0.45614035 | W6: 0.9631826 | X6: 0.38596491 | AA6: Tyler Barbier | AB6: 5 | AC6: 5 | AD6: 0 | AE6: 13.2 | AF6: 8 | AG6: 8 | AH6: 0 | AI6: 19 | AJ6: 20 | AK6: 1 | AL6: 6 | AM6: 0 | AN6: 1 | AO6: 0 | AP6: 5.4545455 | AQ6: 2.1212121
B7: Dawson Fascia | C7: 16 | D7: 58 | E7: 49 | F7: 4 | G7: 11 | H7: 10 | I7: 1 | J7: 0 | K7: 0 | L7: 6 | M7: 5 | N7: 1 | O7: 5 | P7: 2 | Q7: 3 | R7: 3 | S7: 5 | T7: 1 | U7: 0.31578947 | V7: 0.24489796 | W7: 0.56068743 | X7: 0.2244898 | AA7: Ivan Jakovljevic | AB7: 12 | AC7: 0 | AD7: 0 | AE7: 20.1 | AF7: 24 | AG7: 25 | AH7: 2 | AI7: 22 | AJ7: 30 | AK7: 2 | AL7: 7 | AM7: 2 | AN7: 3 | AO7: 0 | AP7: 8.358209 | AQ7: 2.7363184
B8: Aidan Murphy | C8: 14 | D8: 55 | E8: 49 | F8: 12 | G8: 15 | H8: 11 | I8: 3 | J8: 0 | K8: 1 | L8: 5 | M8: 4 | N8: 0 | O8: 15 | P8: 2 | Q8: 4 | R8: 0 | S8: 2 | T8: 0 | U8: 0.38181818 | V8: 0.42857143 | W8: 0.81038961 | X8: 0.30612245 | AA8: Eric Ferreira | AB8: 2 | AC8: 0 | AD8: 0 | AE8: 2 | AF8: 1 | AG8: 2 | AH8: 0 | AI8: 2 | AJ8: 4 | AK8: 0 | AL8: 0 | AM8: 0 | AN8: 0 | AO8: 0 | AP8: 4.5 | AQ8: 3
B9: Joe Ferreira | C9: 17 | D9: 57 | E9: 47 | F9: 13 | G9: 19 | H9: 15 | I9: 2 | J9: 0 | K9: 2 | L9: 19 | M9: 6 | N9: 2 | O9: 5 | P9: 2 | Q9: 3 | R9: 4 | S9: 1 | T9: 0 | U9: 0.47368421 | V9: 0.57446809 | W9: 1.0481523 | X9: 0.40425532 | AA9: Myles Swartz | AB9: 8 | AC9: 4 | AD9: 0 | AE9: 20.2 | AF9: 15 | AG9: 35 | AH9: 1 | AI9: 11 | AJ9: 11 | AK9: 3 | AL9: 1 | AM9: 0 | AN9: 1 | AO9: 0 | AP9: 6.6831683 | AQ9: 6.13
B10: Sam Lebel | C10: 12 | D10: 55 | E10: 47 | F10: 11 | G10: 17 | H10: 15 | I10: 2 | J10: 0 | K10: 0 | L10: 10 | M10: 6 | N10: 0 | O10: 4 | P10: 2 | Q10: 2 | R10: 4 | S10: 0 | T10: 0 | U10: 0.45454545 | V10: 0.40425532 | W10: 0.85880077 | X10: 0.36170213 | AA10: Sam Lebel | AB10: 4 | AC10: 0 | AD10: 0 | AE10: 3 | AF10: 1 | AG10: 4 | AH10: 1 | AI10: 5 | AJ10: 0 | AK10: 0 | AL10: 0 | AM10: 0 | AN10: 0 | AO10: 0 | AP10: 3 | AQ10: 1.3333333
B11: Jayden Jeminson | C11: 16 | D11: 53 | E11: 44 | F11: 10 | G11: 15 | H11: 12 | I11: 2 | J11: 1 | K11: 0 | L11: 8 | M11: 8 | N11: 0 | O11: 13 | P11: 1 | Q11: 3 | R11: 2 | S11: 2 | T11: 0 | U11: 0.45283019 | V11: 0.43181818 | W11: 0.88464837 | X11: 0.34090909 | AA11: Aidan Murphy | AB11: 8 | AC11: 6 | AD11: 0 | AE11: 30.2 | AF11: 16 | AG11: 29 | AH11: 1 | AI11: 53 | AJ11: 14 | AK11: 1 | AL11: 14 | AM11: 3 | AN11: 1 | AO11: 0 | AP11: 4.7682119 | AQ11: 1.4238411
B12: Aiden Cowper | C12: 17 | D12: 57 | E12: 42 | F12: 12 | G12: 14 | H12: 10 | I12: 2 | J12: 0 | K12: 2 | L12: 10 | M12: 14 | N12: 0 | O12: 12 | P12: 1 | Q12: 0 | R12: 0 | S12: 1 | T12: 0 | U12: 0.50877193 | V12: 0.52380952 | W12: 1.0325815 | X12: 0.33333333 | AA12: Brendan Nolet | AB12: 8 | AC12: 3 | AD12: 0 | AE12: 18.2 | AF12: 29 | AG12: 30 | AH12: 1 | AI12: 16 | AJ12: 29 | AK12: 4 | AL12: 17 | AM12: 2 | AN12: 2 | AO12: 0 | AP12: 14.914286 | AQ12: 3.3714286
B13: Ethan Chramow | C13: 19 | D13: 58 | E13: 38 | F13: 14 | G13: 7 | H13: 7 | I13: 0 | J13: 0 | K13: 0 | L13: 5 | M13: 19 | N13: 0 | O13: 15 | P13: 0 | Q13: 5 | R13: 3 | S13: 3 | T13: 0 | U13: 0.45614035 | V13: 0.18421053 | W13: 0.64035088 | X13: 0.18421053 | AA13: Patreek Shrestha | AB13: 5 | AC13: 2 | AD13: 0 | AE13: 9.1 | AF13: 14 | AG13: 18 | AH13: 3 | AI13: 7 | AJ13: 6 | AK13: 1 | AL13: 2 | AM13: 1 | AN13: 1 | AO13: 0 | AP13: 13.846154 | AQ13: 2.6373626
B14: Tyler Barbier | C14: 13 | D14: 39 | E14: 37 | F14: 10 | G14: 14 | H14: 9 | I14: 3 | J14: 1 | K14: 1 | L14: 13 | M14: 2 | N14: 0 | O14: 11 | P14: 0 | Q14: 0 | R14: 3 | S14: 2 | T14: 0 | U14: 0.41025641 | V14: 0.59459459 | W14: 1.004851 | X14: 0.37837838 | AA14: Aiden Cowper | AB14: 1 | AC14: 0 | AD14: 0 | AE14: 1.1 | AF14: 9 | AG14: 9 | AH14: 0 | AI14: 0 | AJ14: 2 | AK14: 0 | AL14: 0 | AM14: 0 | AN14: 0 | AO14: 0 | AP14: 73.636364 | AQ14: 10
B15: Brendan Nolet | C15: 15 | D15: 60 | E15: 37 | F15: 15 | G15: 6 | H15: 4 | I15: 2 | J15: 0 | K15: 0 | L15: 2 | M15: 19 | N15: 0 | O15: 11 | P15: 4 | Q15: 2 | R15: 4 | S15: 11 | T15: 0 | U15: 0.48333333 | V15: 0.21621622 | W15: 0.69954955 | X15: 0.16216216 | AA15: Alex Emmerson | AB15: 4 | AC15: 1 | AD15: 0 | AE15: 14.1 | AF15: 19 | AG15: 24 | AH15: 0 | AI15: 9 | AJ15: 18 | AK15: 0 | AL15: 4 | AM15: 0 | AN15: 0 | AO15: 0 | AP15: 12.337662 | AQ15: 3.030303
B16: Keegan Murphy | C16: 15 | D16: 46 | E16: 34 | F16: 9 | G16: 10 | H16: 6 | I16: 2 | J16: 0 | K16: 2 | L16: 11 | M16: 9 | N16: 0 | O16: 12 | P16: 2 | Q16: 1 | R16: 2 | S16: 1 | T16: 0 | U16: 0.46666667 | V16: 0.52941176 | W16: 0.99607843 | X16: 0.29411765 | AA16: Kyle Mucin | AB16: 7 | AC16: 0 | AD16: 0 | AE16: 15.2 | AF16: 9 | AG16: 13 | AH16: 0 | AI16: 15 | AJ16: 17 | AK16: 3 | AL16: 3 | AM16: 1 | AN16: 2 | AO16: 0 | AP16: 5.3289474 | AQ16: 13
... B19: Ralph Lahey | C19: 12 | D19: 32 | E19: 25 | F19: 4 | G19: 5 | H19: 4 | I19: 0 | J19: 0 | K19: 1 | L19: 11 | M19: 6 | N19: 0 | O19: 5 | P19: 1 | Q19: 0 | R19: 0 | S19: 0 | T19: 0 | U19: 0.375 | V19: 0.32 | W19: 0.695 | X19: 0.2 | AA19: Team Totals | AB19: 69 | AC19: 22 | AD19: 0 | AE19: 153.2 | AF19: 151 | AG19: 203 | AH19: 9 | AI19: 167 | AJ19: 158 | AK19: 16 | AL19: 55 | AM19: 9 | AN19: 11 | AO19: 0 | AP19: 6.8756911 | AQ19: 2.3482729
B20: Caymo Ghannie | C20: 6 | D20: 22 | E20: 17 | F20: 5 | G20: 6 | H20: 5 | I20: 0 | J20: 0 | K20: 1 | L20: 3 | M20: 3 | N20: 0 | O20: 1 | P20: 2 | Q20: 1 | R20: 0 | S20: 3 | T20: 0 | U20: 0.5 | V20: 0.52941176 | W20: 1.0294118 | X20: 0.35294118
B21: Eric Ferreira | C21: 5 | D21: 15 | E21: 12 | F21: 4 | G21: 7 | H21: 7 | I21: 0 | J21: 0 | K21: 0 | L21: 9 | M21: 1 | N21: 0 | O21: 3 | P21: 2 | Q21: 0 | R21: 0 | S21: 1 | T21: 0 | U21: 0.66666667 | V21: 0.58333333 | W21: 1.25 | X21: 0.58333333
B22: Matteo Ruggirello | C22: 4 | D22: 10 | E22: 10 | F22: 2 | G22: 4 | H22: 3 | I22: 1 | J22: 0 | K22: 0 | L22: 1 | M22: 0 | N22: 0 | O22: 2 | P22: 0 | Q22: 1 | R22: 1 | S22: 0 | T22: 2 | U22: 0.4 | V22: 0.5 | W22: 0.9 | X22: 0.4
B23: Alex Emmerson | C23: 4 | D23: 11 | E23: 8 | F23: 2 | G23: 2 | H23: 1 | I23: 1 | J23: 0 | K23: 0 | L23: 2 | M23: 2 | N23: 0 | O23: 5 | P23: 1 | Q23: 0 | R23: 0 | S23: 0 | T23: 0 | U23: 0.45454545 | V23: 0.375 | W23: 0.82954545 | X23: 0.25
B24: O Toon | C24: 1 | D24: 5 | E24: 4 | F24: 1 | G24: 0 | H24: 0 | I24: 0 | J24: 0 | K24: 0 | L24: 0 | M24: 1 | N24: 0 | O24: 1 | P24: 0 | Q24: 0 | R24: 0 | S24: 0 | T24: 0 | U24: 0.2 | V24: 0 | W24: 0.2 | X24: 0
B25: Jesse Berney | C25: 1 | D25: 4 | E25: 4 | F25: 1 | G25: 1 | H25: 1 | I25: 0 | J25: 0 | K25: 0 | L25: 1 | M25: 0 | N25: 0 | O25: 1 | P25: 0 | Q25: 0 | R25: 2 | S25: 1 | T25: 0 | U25: 0.25 | V25: 0.25 | W25: 0.5 | X25: 0.25
B26: Kevin Linfield | C26: 1 | D26: 4 | E26: 3 | F26: 0 | G26: 0 | H26: 0 | I26: 0 | J26: 0 | K26: 0 | L26: 0 | M26: 1 | N26: 0 | O26: 0 | P26: 0 | Q26: 0 | R26: 0 | S26: 0 | T26: 0 | U26: 0.25 | V26: 0 | W26: 0.25 | X26: 0
B27: Jaden Gadishaw | C27: 1 | D27: 3 | E27: 2 | F27: 3 | G27: 2 | H27: 1 | I27: 1 | J27: 0 | K27: 0 | L27: 1 | M27: 0 | N27: 0 | O27: 0 | P27: 1 | Q27: 0 | R27: 0 | S27: 0 | T27: 0 | U27: 1 | V27: 1.5 | W27: 2.5 | X27: 1
B28: Ivan Jakovljevic | C28: 1 | D28: 1 | E28: 1 | F28: 0 | G28: 0 | H28: 0 | I28: 0 | J28: 0 | K28: 0 | L28: 0 | M28: 0 | N28: 0 | O28: 1 | P28: 0 | Q28: 0 | R28: 0 | S28: 0 | T28: 0 | U28: 0 | V28: 0 | W28: 0 | X28: 0
B29: Team Totals | C29: 257 | D29: 877 | E29: 693 | F29: 187 | G29: 214 | H29: 169 | I29: 32 | J29: 3 | K29: 10 | L29: 154 | M29: 138 | N29: 3 | O29: 165 | P29: 36 | Q29: 31 | R29: 36 | S29: 52 | T29: 3 | U29: 0.44597701 | V29: 0.40692641 | W29: 0.85290342 | X29: 0.30880231

Sheet 2026 Tournaments
G2: 2026 Tournament Batting | AE2: 2026 Tournament Pitching
B3: Team Best -Min 15 AB | AA3: Team Best - Min 5 IP
B4: Batting | C4: GP | D4: PA | E4: AB | F4: R | G4: H | H4: 1B | I4: 2B | J4: 3B | K4: HR | L4: RBI | M4: BB | N4: Sac | O4: K | P4: HBP | Q4: RE | R4: FC | S4: SB | T4: CS | U4: OBP | V4: SLG | W4: OPS | X4: AVG | AA4: Pitching | AB4: G | AC4: GS | AD4: CG | AE4: IP | AF4: ER | AG4: Hits | AH4: HR | AI4: K | AJ4: BB | AK4: HBP | AL4: WP | AM4: Won | AN4: Lost | AO4: Sv | AP4: ERA | AQ4: WHIP
B5: Caleb Chramow | C5: ='Batting by month'!D16 -> 13 | D5: ='Batting by month'!E16 -> 41 | E5: ='Batting by month'!F16 -> 26 | F5: ='Batting by month'!G16 -> 6 | G5: ='Batting by month'!H16 -> 6 | H5: ='Batting by month'!I16 -> 2 | I5: ='Batting by month'!J16 -> 4 | J5: ='Batting by month'!K16 -> 0 | ... T5: ='Batting by month'!U16 -> 0 | U5: =(G5+M5+P5)/(E5+M5+P5+N5) -> 0.51219512 | V5: =(H5+I5*2+J5*3+K5*4)/E5 -> 0.38461538 | W5: =U5+V5 -> 0.89681051 | X5: =G5/E5 -> 0.23076923 | AA5: Joe Ferreira | AB5: 5 | AC5: 5 | AD5: 2 | AE5: 30.1 | AF5: 28 | AG5: 48 | AH5: 5 | AI5: 33 | AJ5: 8 | AK5: 2 | AL5: 0 | AM5: 2 | AN5: 2 | AO5: 0 | AP5: 6.4622486 | AQ5: 1.8463567
B6: Patrick Pinlac | C6: ='Batting by month'!D34 -> 15 | D6: ='Batting by month'!E34 -> 53 | E6: ='Batting by month'!F34 -> 44 | F6: ='Batting by month'!G34 -> 9 | G6: ='Batting by month'!H34 -> 7 | H6: ='Batting by month'!I34 -> 4 | I6: ='Batting by month'!J34 -> 2 | J6: ='Batting by month'!K34 -> 0 | ... T6: ='Batting by month'!U34 -> 1 | U6: =(G6+M6+P6)/(E6+M6+P6+N6) -> 0.28846154 | V6: =(H6+I6*2+J6*3+K6*4)/E6 -> 0.27272727 | W6: =U6+V6 -> 0.56118881 | X6: =G6/E6 -> 0.15909091 | AA6: Tyler Barbier | AB6: 2 | AC6: 2 | AD6: 1 | AE6: 8 | AF6: 1 | AG6: 2 | AH6: 0 | AI6: 10 | AJ6: 4 | AK6: 0 | AL6: 0 | AM6: 1 | AN6: 0 | AO6: 0 | AP6: 0.875 | AQ6: 0.75
B7: Dawson Fascia | C7: ='Batting by month'!D53 -> 19 | D7: ='Batting by month'!E53 -> 70 | E7: ='Batting by month'!F53 -> 60 | F7: ='Batting by month'!G53 -> 11 | G7: ='Batting by month'!H53 -> 17 | H7: ='Batting by month'!I53 -> 14 | I7: ='Batting by month'!J53 -> 3 | J7: ='Batting by month'!K53 -> 0 | ... T7: ='Batting by month'!U53 -> 0 | U7: =(G7+M7+P7)/(E7+M7+P7+N7) -> 0.36764706 | V7: =(H7+I7*2+J7*3+K7*4)/E7 -> 0.33333333 | W7: =U7+V7 -> 0.70098039 | X7: =G7/E7 -> 0.28333333 | AA7: Ivan Jakovljevic | AB7: 2 | AC7: 1 | AD7: 0 | AE7: 1.1 | AF7: 3 | AG7: 2 | AH7: 0 | AI7: 2 | AJ7: 4 | AK7: 0 | AL7: 1 | AM7: 0 | AN7: 0 | AO7: 0 | AP7: 15.789474 | AQ7: 4.5112782
B8: Joe Ferreira | C8: ='Batting by month'!D72 -> 20 | D8: ='Batting by month'!E72 -> 70 | E8: ='Batting by month'!F72 -> 62 | F8: ='Batting by month'!G72 -> 13 | G8: ='Batting by month'!H72 -> 23 | H8: ='Batting by month'!I72 -> 15 | I8: ='Batting by month'!J72 -> 4 | J8: ='Batting by month'!K72 -> 0 | ... T8: ='Batting by month'!U72 -> 0 | U8: =(G8+M8+P8)/(E8+M8+P8+N8) -> 0.44285714 | V8: =(H8+I8*2+J8*3+K8*4)/E8 -> 0.62903226 | W8: =U8+V8 -> 1.0718894 | X8: =G8/E8 -> 0.37096774 | AA8: Eric Ferreira | AB8: 3 | AC8: 0 | AD8: 0 | AE8: 6 | AF8: 6 | AG8: 11 | AH8: 0 | AI8: 5 | AJ8: 2 | AK8: 0 | AL8: 0 | AM8: 0 | AN8: 0 | AO8: 0 | AP8: 7.0116861 | AQ8: 2.1702838
B9: Tyler Barbier | C9: ='Batting by month'!D91 -> 6 | D9: ='Batting by month'!E91 -> 46 | E9: ='Batting by month'!F91 -> 39 | F9: ='Batting by month'!G91 -> 11 | G9: ='Batting by month'!H91 -> 15 | H9: ='Batting by month'!I91 -> 11 | I9: ='Batting by month'!J91 -> 3 | J9: ='Batting by month'!K91 -> 1 | ... T9: ='Batting by month'!U91 -> 1 | U9: =(G9+M9+P9)/(E9+M9+P9+N9) -> 0.47826087 | V9: =(H9+I9*2+J9*3+K9*4)/E9 -> 0.51282051 | W9: =U9+V9 -> 0.99108138 | X9: =G9/E9 -> 0.38461538 | AA9: Myles Swartz | AB9: 4 | AC9: 4 | AD9: 3 | AE9: 20 | AF9: 12 | AG9: 22 | AH9: 0 | AI9: 19 | AJ9: 5 | AK9: 6 | AL9: 1 | AM9: 3 | AN9: 1 | AO9: 0 | AP9: 4.2 | AQ9: 1.35
B10: Eric Ferreira | C10: ='Batting by month'!D121 -> 8 | D10: ='Batting by month'!E121 -> 23 | E10: ='Batting by month'!F121 -> 16 | F10: ='Batting by month'!G121 -> 6 | G10: ='Batting by month'!H121 -> 3 | H10: ='Batting by month'!I121 -> 3 | I10: ='Batting by month'!J121 -> 0 | J10: ='Batting by month'!K121 -> 0 | ... T10: ='Batting by month'!U121 -> 0 | U10: =(G10+M10+P10)/(E10+M10+P10+N10) -> 0.43478261 | V10: =(H10+I10*2+J10*3+K10*4)/E10 -> 0.1875 | W10: =U10+V10 -> 0.62228261 | X10: =G10/E10 -> 0.1875 | AA10: Sam Lebel | AB10: 1 | AC10: 0 | AD10: 0 | AE10: 1 | AF10: 0 | AG10: 1 | AH10: 0 | AI10: 2 | AJ10: 0 | AK10: 0 | AL10: 0 | AM10: 0 | AN10: 0 | AO10: 1 | AP10: 0 | AQ10: 0
B11: Sam Lebel | C11: ='Batting by month'!D138 -> 18 | D11: ='Batting by month'!E138 -> 65 | E11: ='Batting by month'!F138 -> 54 | F11: ='Batting by month'!G138 -> 11 | G11: ='Batting by month'!H138 -> 19 | H11: ='Batting by month'!I138 -> 13 | I11: ='Batting by month'!J138 -> 5 | J11: ='Batting by month'!K138 -> 0 | ... T11: ='Batting by month'!U138 -> 0 | U11: =(G11+M11+P11)/(E11+M11+P11+N11) -> 0.44615385 | V11: =(H11+I11*2+J11*3+K11*4)/E11 -> 0.5 | W11: =U11+V11 -> 0.94615385 | X11: =G11/E11 -> 0.35185185 | AA11: Aidan Murphy | AB11: ='Pitching by Month'!D103 -> 5 | AC11: ='Pitching by Month'!E103 -> 5 | AD11: ='Pitching by Month'!F103 -> 5 | AE11: ='Pitching by Month'!G103 -> 29 | AF11: ='Pitching by Month'!H103 -> 15 | AG11: ='Pitching by Month'!I103 -> 29 | AH11: ='Pitching by Month'!J103 -> 0 | AI11: ='Pitching by Month'!K103 -> 36 | ... AO11: ='Pitching by Month'!Q103 -> 0 | AP11: =AF11*7/AE11 -> 3.6206897 | AQ11: =(AG11+AJ11)/AE11 -> 1.4137931
B12: Keegan Murphy | C12: ='Batting by month'!D165 -> 14 | D12: ='Batting by month'!E165 -> 43 | E12: ='Batting by month'!F165 -> 36 | F12: ='Batting by month'!G165 -> 7 | G12: ='Batting by month'!H165 -> 11 | H12: ='Batting by month'!I165 -> 8 | I12: ='Batting by month'!J165 -> 3 | J12: ='Batting by month'!K165 -> 0 | ... T12: ='Batting by month'!U165 -> 0 | U12: =(G12+M12+P12)/(E12+M12+P12+N12) -> 0.41860465 | V12: =(H12+I12*2+J12*3+K12*4)/E12 -> 0.38888889 | W12: =U12+V12 -> 0.80749354 | X12: =G12/E12 -> 0.30555556 | AA12: Alex Emmerson | AB12: 2 | AC12: 0 | AD12: 0 | AE12: 3.2 | AF12: 3 | AG12: 3 | AH12: 0 | AI12: 2 | AJ12: 2 | AK12: 1 | AL12: 0 | AM12: 0 | AN12: 0 | AO12: 0 | AP12: 5.7377049 | AQ12: 1.3661202
